BEGIN:VCALENDAR
VERSION:2.0
PRODID:-//Patriot Guard Riders - ECPv5.3.2.1//NONSGML v1.0//EN
CALSCALE:GREGORIAN
METHOD:PUBLISH
X-WR-CALNAME:Patriot Guard Riders
X-ORIGINAL-URL:https://www.patriotguard.org
X-WR-CALDESC:Events for Patriot Guard Riders
BEGIN:VTIMEZONE
TZID:America/New_York
BEGIN:DAYLIGHT
TZOFFSETFROM:-0500
TZOFFSETTO:-0400
TZNAME:EDT
DTSTART:20190310T070000
END:DAYLIGHT
BEGIN:STANDARD
TZOFFSETFROM:-0400
TZOFFSETTO:-0500
TZNAME:EST
DTSTART:20191103T060000
END:STANDARD
END:VTIMEZONE
BEGIN:VEVENT
DTSTART;VALUE=DATE:20190713
DTEND;VALUE=DATE:20190714
DTSTAMP:20210404T065334
CREATED:20190712T142847Z
LAST-MODIFIED:20190712T142847Z
UID:167390-1562976000-1563062399@www.patriotguard.org
SUMMARY:George Henry Shimp Sr
DESCRIPTION:Honor Mission\nGeorge Henry Shimp Sr\, Veteran\nUSN –\nOcean Springs\, Mississippi – 07-13-19\n\n\n\nABOUT THE MISSION: \nWe are sad to report the death of US Navy Veteran George Henry “Buzzy” Shimp Sr (78). In addition to being in the US Navy\, Mr. Shimp was a charter member of the American Legion 1992 in Gautier Mississippi. His family has requested the Patriot Guard Riders to help honor and pay respect for his service to our country. We will provide a flag line during visitation from 10-11 am.\n\n\nPRIMARY STAGING DETAILS: 07-13-19 \nStaging Time: 09:45 AM\n \nBradford O’keefe Funeral Home\n911 Porter Ave\nOcean Springs\, Mississippi\n\n\nRide Captain: \nSteve Rancier\n228-623-2648\n\n\nSpecial Instructions: \n*Please watch weather and call ride captain if you aren’t sure.\n\n\nFlags & Water:\nFlags will be provided\nLarge Bike Flags will NOT be needed.\nWater WILL NOT be provided\, please bring your own.\n\n\n\nSubmitted By: Sandie Schlett \nPosition: Mississippi Assistant State Captain \n\nNote: You do not have to own/ride a motorcycle or be a veteran to join\, and membership is Free. The only requirement is RESPECT! To subscribe to receive mission notices\, log into the National Site and click on the Members tab at the top. Select the Subscribe to PGR Missions option.\n Print This Page
URL:https://www.patriotguard.org/mission/george-henry-shimp-sr/
CATEGORIES:Honor Mission
END:VEVENT
END:VCALENDAR