BEGIN:VCALENDAR
VERSION:2.0
PRODID:-//Patriot Guard Riders - ECPv5.3.2.1//NONSGML v1.0//EN
CALSCALE:GREGORIAN
METHOD:PUBLISH
X-WR-CALNAME:Patriot Guard Riders
X-ORIGINAL-URL:https://www.patriotguard.org
X-WR-CALDESC:Events for Patriot Guard Riders
BEGIN:VTIMEZONE
TZID:America/New_York
BEGIN:DAYLIGHT
TZOFFSETFROM:-0500
TZOFFSETTO:-0400
TZNAME:EDT
DTSTART:20190310T070000
END:DAYLIGHT
BEGIN:STANDARD
TZOFFSETFROM:-0400
TZOFFSETTO:-0500
TZNAME:EST
DTSTART:20191103T060000
END:STANDARD
END:VTIMEZONE
BEGIN:VEVENT
DTSTART;VALUE=DATE:20190701
DTEND;VALUE=DATE:20190702
DTSTAMP:20210404T024929
CREATED:20190628T231607Z
LAST-MODIFIED:20190628T231607Z
UID:166209-1561939200-1562025599@www.patriotguard.org
SUMMARY:George Elrie Gee
DESCRIPTION:Honor Mission\nGeorge Elrie Gee\, Retired\nUSA\, USAR – Vietnam\nMesa\, Arizona – 07-01-19\n\n\n\nABOUT THE MISSION: \nGeorge Elrie Gee served honorably in the USA and USAR for 27 years. George earned the rank of Master Sergeant E-8. He served with the 937th Engineering Group. George served both in Vietnam and Germany earning the following commendations and awards: National Defense Service Medal with one Oak Leaf Cluster; Good Conduct Medal (8 awards); Vietnam Service Medal with 2 Bronze Service Stars; Republic of Vietnam Campaign Medal; Republic of Vietnam Gallantry Cross with Palm; Army of Occupation Medal (Germany).\n\n\nPRIMARY STAGING DETAILS: 07-01-19 \nStaging Time: 12:30 PM\n \nLiving Word Bible Church\n3520 E Brown Rd\nMesa\, Arizona 85213\n\n\nRide Captain: \nDan Lazearaz\npgrdan@gmail.com\n480-223-8628\n\nSRG/LRG: Jim Anderson\n\n\nSpecial Instructions: \nPlease arrive quietly. Service will be in progress.\nCircle of Honor: 1:00 P.M.\nKSU: 1:15 P.M.\n\n\nFlags & Water:\nFlags will not be provided\nIf you have large bike flags\, please bring them.\nWater WILL NOT be provided\, please bring your own.\n\nSTAGING #2 DETAILS: 07-01-19 \nStaging Time: 2:00 PM\n \nNational Memorial Cemetery of Arizona\, Visitor Center\n23029 North Cave Creek Road\nPhoenix\, Arizona 85024\n\n\nRide Captain: \nDan Lazearaz\npgrdan@gmail.com\n480-223-8628\n\nFlag Captain: TBD\n\n\nSpecial Instructions: \nFlag Line Set: 2:15 P.M.\nHonors: 2:30 P.M.\n\n\nFlags & Water:\nFlags will be provided\nLarge Bike Flags will NOT be needed.\nWater will be provided.\n\n\n\nSubmitted By: David Murphy \nPosition: Arizona Assistant State Captain \n\nNote: You do not have to own/ride a motorcycle or be a veteran to join\, and membership is Free. The only requirement is RESPECT! To subscribe to receive mission notices\, log into the National Site and click on the Members tab at the top. Select the Subscribe to PGR Missions option.\n Print This Page
URL:https://www.patriotguard.org/mission/george-elrie-gee/
CATEGORIES:Honor Mission
END:VEVENT
END:VCALENDAR