BEGIN:VCALENDAR
VERSION:2.0
PRODID:-//Patriot Guard Riders - ECPv5.3.2.1//NONSGML v1.0//EN
CALSCALE:GREGORIAN
METHOD:PUBLISH
X-WR-CALNAME:Patriot Guard Riders
X-ORIGINAL-URL:https://www.patriotguard.org
X-WR-CALDESC:Events for Patriot Guard Riders
BEGIN:VTIMEZONE
TZID:America/New_York
BEGIN:DAYLIGHT
TZOFFSETFROM:-0500
TZOFFSETTO:-0400
TZNAME:EDT
DTSTART:20190310T070000
END:DAYLIGHT
BEGIN:STANDARD
TZOFFSETFROM:-0400
TZOFFSETTO:-0500
TZNAME:EST
DTSTART:20191103T060000
END:STANDARD
END:VTIMEZONE
BEGIN:VEVENT
DTSTART;VALUE=DATE:20190604
DTEND;VALUE=DATE:20190605
DTSTAMP:20210405T055011
CREATED:20190604T004409Z
LAST-MODIFIED:20190604T004624Z
UID:163536-1559606400-1559692799@www.patriotguard.org
SUMMARY:George Edwin Pickerell
DESCRIPTION:Honor Mission\nGeorge Edwin Pickerell\, Veteran\nUSA – WWII\nHodgenville\, Kentucky – 06-04-19\n\n\n\nABOUT THE MISSION: \nKentucky has lost another brother\, George Edwin Pickerell\, SSG\, US Army WWII Veteran. We have been invited by the family to stand in his honor. He served our country with courage and honor in the United States Army. He was awarded two Purple Hearts and a Bronze Star. It is now our honor to stand for him.\n**ALL TIMES: Eastern Standard Time**\n\n\nPRIMARY STAGING DETAILS: 06-04-19 \nStaging Time: 08:30  \nBennett-Bertram Funeral Home208 West Water Street\nHodgenville\, Kentucky 42748\n\n\nRide Captain: \nDon Gilmore\ndgilmore@bbtel.com\n\nAsst: Edwin (Ed) Hartsell\, edwinhartsell@hotmail.com\nJames (Danny) Johnson\, Senior Ride Captain\, roughriverdan@yahoo.com\n\n\nSpecial Instructions: \n8:30 Stage and Stake Flags\n09:00 Visitation Begins\n10:45 Render Final Salute\n11:00 Service Begins\nEscort To: Big Springs Cemetery (Larue County) – Director will advise.\nWater will not be provided. Please arrive hydrated.\nPlease be prepared for the Hot and wet weather conditions.\n\n\nFlags & Water:\nFlags will be provided\nIf you have large bike flags\, please bring them.\nWater WILL NOT be provided\, please bring your own.\n\n\n\nSubmitted By: James Johnson \nPosition: Kentucky Ride Captain \n\nNote: You do not have to own/ride a motorcycle or be a veteran to join\, and membership is Free. The only requirement is RESPECT! To subscribe to receive mission notices\, log into the National Site and click on the Members tab at the top. Select the Subscribe to PGR Missions option.\n Print This Page
URL:https://www.patriotguard.org/mission/george-edwin-pickerell/
CATEGORIES:Honor Mission
END:VEVENT
END:VCALENDAR