BEGIN:VCALENDAR
VERSION:2.0
PRODID:-//Patriot Guard Riders - ECPv5.3.2.1//NONSGML v1.0//EN
CALSCALE:GREGORIAN
METHOD:PUBLISH
X-WR-CALNAME:Patriot Guard Riders
X-ORIGINAL-URL:https://www.patriotguard.org
X-WR-CALDESC:Events for Patriot Guard Riders
BEGIN:VTIMEZONE
TZID:America/New_York
BEGIN:DAYLIGHT
TZOFFSETFROM:-0500
TZOFFSETTO:-0400
TZNAME:EDT
DTSTART:20210314T070000
END:DAYLIGHT
BEGIN:STANDARD
TZOFFSETFROM:-0400
TZOFFSETTO:-0500
TZNAME:EST
DTSTART:20211107T060000
END:STANDARD
END:VTIMEZONE
BEGIN:VEVENT
DTSTART;VALUE=DATE:20210403
DTEND;VALUE=DATE:20210404
DTSTAMP:20210404T201731
CREATED:20210402T020452Z
LAST-MODIFIED:20210402T020452Z
UID:573618-1617408000-1617494399@www.patriotguard.org
SUMMARY:George Edward Williams III
DESCRIPTION:Honor Mission\nGeorge Edward Williams III\, Veteran\nUSA\, USN –\nMULTI-CITY\, Texas – 04-03-21\n\n\n\nABOUT THE MISSION: \nGeorge Edward Williams joined the U.S. Navy\, then the U.S. Army. He was honorably discharged from both. He received a medical discharge.\n\n\nPRIMARY STAGING DETAILS: 04-03-21 \nStaging Time: 2:00 PM\n \nDeBerry Funeral Directors\n2025 West University\nDenton\, Texas 76201\n\n\nRide Captain: \nMike Moore\nevermoore58@gmail.com\n(817) 228-3240\n\n\nSpecial Instructions: \nStaging Time: 2:00\nBriefing Time: 2:15\nIn Position/KSU Time: 2:30\nStarting Time: 3:00\nRiders will stage at the funeral home to be briefed about our veteran and this mission. Riders will stand “tall and silent” on the flag line as family and friends arrive for the funeral service. Once the service begins (when directed)\, riders will pull the flags and return them to the support vehicle to be furled and put away. Riders participating in the (7 miles) procession will receive the safety briefing and be staged for departure once the service concludes. Town of Sanger and Town of Krum LEO will provide traffic control for the procession.Remaining riders may proceed to the cemetery and help the support team in establishing our flag line near the gravesite.\n\n\nFlags & Water:\nFlags will be provided\nIf you have large bike flags\, please bring them.\nWater will be provided.\n\nSTAGING #2 DETAILS: 04-03-21 \nStaging Time: 3:15 PM\n \nJackson Cemetery\nHwy 156 (just north of Hwy 380)\nKrum\, Texas 76249\n\n\nRide Captain: \nMike Moore\nevermoore58@gmail.com\n(817) 228-3240\n\n\nSpecial Instructions: \nStaging Time: 3:15\nIn Position/KSU Time: 3:30\nStarting Time : 3:45 Time Estimated\nRiders not participating in part one may stage at the cemetery to await the family and friends traveling in procession from the funeral home. Riders will stand “tall and silent” for the interment service. American Legion Post 268 of Sanger will be performing the flag folding and presentation honors.At the conclusion of the service (when directed)\, riders will return the flags to the support vehicle to be furled and put away. Riders will then be debriefed and dismissed.\n\n\nFlags & Water:\nFlags will be provided\nLarge Bike Flags will NOT be needed.\nWater will be provided.\n\n\nSubmitted By: Dan Mathys \nPosition: Texas Ride Captain \n\nNote: You do not have to own/ride a motorcycle or be a veteran to join\, and membership is Free. The only requirement is RESPECT! To subscribe to receive mission notices\, log into the National Site and click on the Members tab at the top. Select the Subscribe to PGR Missions option.\n Print This Page
URL:https://www.patriotguard.org/mission/george-edward-williams-iii/
CATEGORIES:Honor Mission
END:VEVENT
END:VCALENDAR