BEGIN:VCALENDAR
VERSION:2.0
PRODID:-//Patriot Guard Riders - ECPv5.3.2.1//NONSGML v1.0//EN
CALSCALE:GREGORIAN
METHOD:PUBLISH
X-WR-CALNAME:Patriot Guard Riders
X-ORIGINAL-URL:https://www.patriotguard.org
X-WR-CALDESC:Events for Patriot Guard Riders
BEGIN:VTIMEZONE
TZID:America/New_York
BEGIN:DAYLIGHT
TZOFFSETFROM:-0500
TZOFFSETTO:-0400
TZNAME:EDT
DTSTART:20190310T070000
END:DAYLIGHT
BEGIN:STANDARD
TZOFFSETFROM:-0400
TZOFFSETTO:-0500
TZNAME:EST
DTSTART:20191103T060000
END:STANDARD
END:VTIMEZONE
BEGIN:VEVENT
DTSTART;VALUE=DATE:20190928
DTEND;VALUE=DATE:20190929
DTSTAMP:20210401T030346
CREATED:20190927T135543Z
LAST-MODIFIED:20190927T135543Z
UID:176995-1569628800-1569715199@www.patriotguard.org
SUMMARY:George E. Unger
DESCRIPTION:Honor Mission\nGeorge E. Unger\, Veteran\nUSA – WWII\nBurkburnett\, Texas – 09-28-19\n\n\n \n\nABOUT THE MISSION: \nInterment Service\n\n\nPRIMARY STAGING DETAILS: 09-28-19 \nStaging Time: 11:30 am\n \nBurkburnett Cemetery\n920 Bishop Road\nBurkburnett\, Texas 76354\n\n\nRide Captain: \nBarbara Johnson\nbrbjo@aol.com\n(940) 642-5324\n\n\nSpecial Instructions: \nStarting Time 12:45 pm\nThe visitation will be from 11:00 until 12:30 at Owens Brumley Funeral Home in Burkburnett\, TX. While the visitation is going on we will put up static flags around the pavilion in the cemetery. Around 12:15 any flag bikes that have shown up will be sent to the funeral home to accompany the family to the pavilion in the cemetery where the service will be held. Upon completion of the service the family along with Mr. Unger’s body will go to the burial site for internment. At this time we will let the family have private time at the burial site and we will take down the flags\, return them to the support vehicle where they will be furled and stowed away. After a very short debrief\, we will be dismissed.\n\nFlags & Water:\nFlags will be provided\nLarge Bike Flags will NOT be needed.\nWater will be provided.\n\n\n\nSubmitted By: Dan Mathys \nPosition: Texas Ride Captain \n\nNote: You do not have to own/ride a motorcycle or be a veteran to join\, and membership is Free. The only requirement is RESPECT! To subscribe to receive mission notices\, log into the National Site and click on the Members tab at the top. Select the Subscribe to PGR Missions option.\n Print This Page
URL:https://www.patriotguard.org/mission/george-e-unger/
CATEGORIES:Honor Mission
END:VEVENT
END:VCALENDAR