BEGIN:VCALENDAR
VERSION:2.0
PRODID:-//Patriot Guard Riders - ECPv5.6.0//NONSGML v1.0//EN
CALSCALE:GREGORIAN
METHOD:PUBLISH
X-WR-CALNAME:Patriot Guard Riders
X-ORIGINAL-URL:https://www.patriotguard.org
X-WR-CALDESC:Events for Patriot Guard Riders
BEGIN:VTIMEZONE
TZID:America/New_York
BEGIN:DAYLIGHT
TZOFFSETFROM:-0500
TZOFFSETTO:-0400
TZNAME:EDT
DTSTART:20160313T070000
END:DAYLIGHT
BEGIN:STANDARD
TZOFFSETFROM:-0400
TZOFFSETTO:-0500
TZNAME:EST
DTSTART:20161106T060000
END:STANDARD
END:VTIMEZONE
BEGIN:VEVENT
DTSTART;TZID=America/New_York:20160610T090000
DTEND;TZID=America/New_York:20160610T110000
DTSTAMP:20210513T163706
CREATED:20160610T130000Z
LAST-MODIFIED:20191201T145228Z
UID:411411-1465549200-1465556400@www.patriotguard.org
SUMMARY:George E. Brooks\, USA
DESCRIPTION:Please note that due to ongoing OPSEC concerns\, mission details are not shown in this posting. All specific details and updates have been sent to members directly via their e-mail address on file. \nWe have been invited to stand in Honor of George E. Brooks United States Army Veteran WWII. \nHe served in the Pacific Theater.  Gun-crewman NVY artillery American service Medal\, Asiatic-Pacific service meda; Good conduct medal\, Philippines liberation ribbon. \nWhen/Where: 10 Jun 16 / Webster\, NY 14580 \nPlease arrive 20 minutes prior to calling Hours or when ever you can for as long as you can and park with consideration to Family and friends. \nLRC\nDan Ritz\ndritz003@rochester.rr.com
URL:https://www.patriotguard.org/mission/george-e-brooks-usa/
CATEGORIES:Archive
END:VEVENT
END:VCALENDAR