BEGIN:VCALENDAR
VERSION:2.0
PRODID:-//Patriot Guard Riders - ECPv5.3.2.1//NONSGML v1.0//EN
CALSCALE:GREGORIAN
METHOD:PUBLISH
X-WR-CALNAME:Patriot Guard Riders
X-ORIGINAL-URL:https://www.patriotguard.org
X-WR-CALDESC:Events for Patriot Guard Riders
BEGIN:VTIMEZONE
TZID:America/New_York
BEGIN:DAYLIGHT
TZOFFSETFROM:-0500
TZOFFSETTO:-0400
TZNAME:EDT
DTSTART:20190310T070000
END:DAYLIGHT
BEGIN:STANDARD
TZOFFSETFROM:-0400
TZOFFSETTO:-0500
TZNAME:EST
DTSTART:20191103T060000
END:STANDARD
END:VTIMEZONE
BEGIN:VEVENT
DTSTART;VALUE=DATE:20190915
DTEND;VALUE=DATE:20190916
DTSTAMP:20210401T102302
CREATED:20190910T014202Z
LAST-MODIFIED:20191127T163743Z
UID:173323-1568505600-1568591999@www.patriotguard.org
SUMMARY:George Daymond Evans
DESCRIPTION:Honor Mission\nCpl George Daymond Evans\, Veteran\nUSMC – Vietnam\nMULTI-CITY\, Arkansas – 09-15-19\n\n\n\nABOUT THE MISSION: \nThe family of Cpl. George Daymond Evans has asked the Patriot Guard Riders to honor this Hero. He was a US Marine that served our country proudly earning the National Defense Medal\, Marksman Rifle Badge\, Good Conduct Period Commences\, and Meritorious Mast. In civilian life he loved to ride motorcycles.\n\n\nPRIMARY STAGING DETAILS: 09-15-19 \nStaging Time: 4:00 PM\n \nValero Tiger Market\n2745 W Main St. (I 40 exit 55)\nClarksville\, Arkansas 72830\nMap\n\n\nRide Captain: \nKeith Ledford\n479-629-2573\ndutchdog389@yahoo.com\n\n\nSpecial Instructions: \nStage: 4:00 P.M.\nBriefing: 4:15 P.M.\nFor those in the River Valley I will be leaving from the gas station at the entrance to the Cracker Barrel in Alma at 3:00 P.M.\nThere will be a Honor line to receive the Hero and a short transport to cemetery where we will stand a flag line for military honors.\n\n\nFlags & Water:\nFlags will be provided\nIf you have large bike flags\, please bring them.\nWater will be provided.\n\n\n\nSubmitted By: Keith Ledford \nPosition: Arkansas Ride Captain \n\nNote: You do not have to own/ride a motorcycle or be a veteran to join\, and membership is Free. The only requirement is RESPECT! To subscribe to receive mission notices\, log into the National Site and click on the Members tab at the top. Select the Subscribe to PGR Missions option.\n Print This Page
URL:https://www.patriotguard.org/mission/george-daymond-evans/
CATEGORIES:Honor Mission
END:VEVENT
END:VCALENDAR