BEGIN:VCALENDAR
VERSION:2.0
PRODID:-//Patriot Guard Riders - ECPv5.3.2.1//NONSGML v1.0//EN
CALSCALE:GREGORIAN
METHOD:PUBLISH
X-WR-CALNAME:Patriot Guard Riders
X-ORIGINAL-URL:https://www.patriotguard.org
X-WR-CALDESC:Events for Patriot Guard Riders
BEGIN:VTIMEZONE
TZID:America/New_York
BEGIN:DAYLIGHT
TZOFFSETFROM:-0500
TZOFFSETTO:-0400
TZNAME:EDT
DTSTART:20190310T070000
END:DAYLIGHT
BEGIN:STANDARD
TZOFFSETFROM:-0400
TZOFFSETTO:-0500
TZNAME:EST
DTSTART:20191103T060000
END:STANDARD
END:VTIMEZONE
BEGIN:VEVENT
DTSTART;VALUE=DATE:20190924
DTEND;VALUE=DATE:20190925
DTSTAMP:20210401T133651
CREATED:20190921T211224Z
LAST-MODIFIED:20190922T175817Z
UID:175809-1569283200-1569369599@www.patriotguard.org
SUMMARY:George Clyde Hall
DESCRIPTION:Honor Mission \n\nGeorge Clyde Hall \, Veteran\nUSN –\nPensacola\, Florida – 09-24-19\n\n\n ABOUT THE MISSION:\n\nAA George Hall honorably served in the United States Navy commencing June 1969 for 3 years 6 months and departed this earth at age 69. AA Hall was an Aviation Machinist Mate and his last duty station was with Air Antisubmarine Squadron Twenty-Two. AA Hall received the National Defense Service Medal. Military Honors will be at Barrancas National Cemetery.\n\n\nPRIMARY STAGING DETAILS: 09-24-19 \nStaging Time: 11:45  \nHardee’s\, 2500 Wilde Lake Blvd\nPensacola\, Florida\n\n\nRide Captain: \nCameron “Chief” Hatton\nCameron.Hatton@gmail.com\n(503) 706-6930\n\n\nSpecial Instructions: \nNaval Air Station (NAS) Pensacola requires long sleeve shirts\, long trousers\, long fingered gloves\, DOT approved helmets\, leather footwear covering the ankles and appropriate eye protection. This attire will always be worn while riding aboard the NAS.\n\n1230 – Safety briefing for all riders\n1245 – KSU to Pensacola Memorial Gardens\, 7433 Pine Forest Road Pensacola\n1300 – Arrival at Pensacola Memorial Gardens\n1330 – KSU to Barrancas National Cemetery Site B w/LEO escort\n1400 – Honors\n\n\nFlags & Water:\nFlags will be provided\nIf you have large bike flags\, please bring them.\nWater will be provided.\n\n\nSubmitted By: Ray Doyle \nPosition: Florida Assistant State Captain \n\nNote: You do not have to own/ride a motorcycle or be a veteran to join\, and membership is Free. The only requirement is RESPECT! To subscribe to receive mission notices\, log into the National Site and click on the Members tab at the top. Select the Subscribe to PGR Missions option.\n Print This Page
URL:https://www.patriotguard.org/mission/george-clyde-hall/
CATEGORIES:Honor Mission
END:VEVENT
END:VCALENDAR