BEGIN:VCALENDAR
VERSION:2.0
PRODID:-//Patriot Guard Riders - ECPv5.6.0//NONSGML v1.0//EN
CALSCALE:GREGORIAN
METHOD:PUBLISH
X-WR-CALNAME:Patriot Guard Riders
X-ORIGINAL-URL:https://www.patriotguard.org
X-WR-CALDESC:Events for Patriot Guard Riders
BEGIN:VTIMEZONE
TZID:America/New_York
BEGIN:DAYLIGHT
TZOFFSETFROM:-0500
TZOFFSETTO:-0400
TZNAME:EDT
DTSTART:20160313T070000
END:DAYLIGHT
BEGIN:STANDARD
TZOFFSETFROM:-0400
TZOFFSETTO:-0500
TZNAME:EST
DTSTART:20161106T060000
END:STANDARD
END:VTIMEZONE
BEGIN:VEVENT
DTSTART;TZID=America/New_York:20160614T090000
DTEND;TZID=America/New_York:20160614T110000
DTSTAMP:20210513T163347
CREATED:20160614T130000Z
LAST-MODIFIED:20191201T145129Z
UID:411324-1465894800-1465902000@www.patriotguard.org
SUMMARY:George Anthony\, USA
DESCRIPTION:Patriot’s Name:George Anthony\n\nMilitary Branch:United States Army\nClassification:Veteran\nAdditional Military Info:Vietnam Veteran\, Bronze Star with V Device \nLink To Obituary:\nhttp://www.blessingfuneralhome.net/obituaries/George-Anthony-4/#!/Obituary \nObituary Highlights: George W. Anthony\, died Monday\, May 30\, 2016. \nMission Ride Captain:\nWendy “Hot Lips” Ingersoll\ncalifbabe55@yahoo.com\n(817) 991-9021 \nMission Summary:\nWe have been invited by the family of George Anthony to join them as they honor and pay their last respects to their loved one. We will do this by standing the flag line at the shelter for the inurnment. \nPART 1:Inurnment at Dallas Fort Worth National Cemetery\nMission Date:Jun 14\, 2016 – Tuesday\nStaging Time:10:15\nBriefing Time:10:30\nIn Position Time Or KSU:10:45\nService Start Time:11:00 \nDetails Of Part 1:\nAfter the brief has been given at the visitor’s center\, the honor bikes will be chosen and moved into Lane C for the procession. The remainder of the riders will proceed to Shelter D to prepare for the arrival of Mr. Anthony\, his family\, and friends. Once the service ends\, we will leave the flags in position and will retrieve them after the last service at the shelter. \nName Of Staging Point:\nDallas Fort Worth National Cemetery Visitor’s Center \nRespectfully Submitted By:\nWendy “Hot Lips” Ingersoll\nRide Captain
URL:https://www.patriotguard.org/mission/george-anthony-usa/
CATEGORIES:Archive
END:VEVENT
END:VCALENDAR