BEGIN:VCALENDAR
VERSION:2.0
PRODID:-//Patriot Guard Riders - ECPv5.3.2.1//NONSGML v1.0//EN
CALSCALE:GREGORIAN
METHOD:PUBLISH
X-WR-CALNAME:Patriot Guard Riders
X-ORIGINAL-URL:https://www.patriotguard.org
X-WR-CALDESC:Events for Patriot Guard Riders
BEGIN:VTIMEZONE
TZID:America/New_York
BEGIN:DAYLIGHT
TZOFFSETFROM:-0500
TZOFFSETTO:-0400
TZNAME:EDT
DTSTART:20190310T070000
END:DAYLIGHT
BEGIN:STANDARD
TZOFFSETFROM:-0400
TZOFFSETTO:-0500
TZNAME:EST
DTSTART:20191103T060000
END:STANDARD
END:VTIMEZONE
BEGIN:VEVENT
DTSTART;VALUE=DATE:20190713
DTEND;VALUE=DATE:20190714
DTSTAMP:20210404T043848
CREATED:20190712T003205Z
LAST-MODIFIED:20190712T004542Z
UID:167379-1562976000-1563062399@www.patriotguard.org
SUMMARY:Gene L Daniels
DESCRIPTION:Honor Mission\nGene L Daniels\, Veteran\nUSA –  Korea\nTampa \, Florida\n07-13-19\n\n\nABOUT THE MISSION:\n\nThe family of PFC Gene L. Daniels United State Army has graciously requested the Patriot Guard Riders presence as they show their final respects to their loved one.PFC Daniels faithfully served his country in the United States Army. Upon completion of his service\, PFC Daniels received an honorable discharge. He served from 1950 thru 1951 Korea\, Among the Medal and awards our Korean service medal /with one bronze star. Combat Infantry Badge. Please bring your 3 X 5 American flags and stand in honor and respect for our Veteran hero and his family\n\n\nPRIMARY STAGING DETAILS: 07-13-19  \nStaging Time: 08:30 AM \nSwilley Funeral Home\n1602 W Waters Ave\,\nTampa\, Florida 33604\n\n          https://goo.gl/maps/J1mKDJnHRsDxcR7FA\n\n\nRide Captain: \nTBD for additional information contact\n\nBill Franklin\n941-350-2547\ngulfrader@comcast.net\n\n\nSpecial Instructions: \nStage 8:30 AM\nBrief 8:45 AM\nFlagline 9:00 AM for viewing\nService 10:00 AM\n\n\nFlags & Water:\nFlags will not be provided\nIf you have large bike flags\, please bring them.\nWater WILL NOT be provided\, please bring your own.\n\n\n  \n\n\nSubmitted By: William Franklin \nPosition: Florida Ride Captain \n\n\nNote: You do not have to own/ride a motorcycle or be a veteran to join\, and membership is Free. The only requirement is RESPECT! To subscribe to receive mission notices\, log into the National Site and click on the Members tab at the top. Select the Subscribe to PGR Missions option.
URL:https://www.patriotguard.org/mission/gene-l-daniels/
CATEGORIES:Honor Mission
END:VEVENT
END:VCALENDAR