BEGIN:VCALENDAR
VERSION:2.0
PRODID:-//Patriot Guard Riders - ECPv5.6.0//NONSGML v1.0//EN
CALSCALE:GREGORIAN
METHOD:PUBLISH
X-WR-CALNAME:Patriot Guard Riders
X-ORIGINAL-URL:https://www.patriotguard.org
X-WR-CALDESC:Events for Patriot Guard Riders
BEGIN:VTIMEZONE
TZID:America/New_York
BEGIN:DAYLIGHT
TZOFFSETFROM:-0500
TZOFFSETTO:-0400
TZNAME:EDT
DTSTART:20160313T070000
END:DAYLIGHT
BEGIN:STANDARD
TZOFFSETFROM:-0400
TZOFFSETTO:-0500
TZNAME:EST
DTSTART:20161106T060000
END:STANDARD
END:VTIMEZONE
BEGIN:VEVENT
DTSTART;TZID=America/New_York:20160610T090000
DTEND;TZID=America/New_York:20160610T110000
DTSTAMP:20210513T160611
CREATED:20160610T130000Z
LAST-MODIFIED:20191201T145353Z
UID:411540-1465549200-1465556400@www.patriotguard.org
SUMMARY:Gene Drabinski\, 71\, USA
DESCRIPTION:We have been invited by the family of Gene Drabinski to honor his life and service to his country. We will stand a flag line at his interment on Friday 10 Jun 16. Services will be held at Idaho State Veterans Cemetery\, 10100 Old Horseshoe Bend Rd\, Boise\, at 1300 hrs. \nGene served in the US Army from 1967 to 1971. He pulled two tours in Vietnam\, first as an enlisted soldier\, and the second as a 2nd Lt with the 173 Airborne. He was 71 at the age of passing. \nStaging: 1200 hrs\, Friday 10 Jun 16. Winco parking lot\, adjacent to Oil Can Henrys\, corner of Old Horseshoe Bend Rd and State St.\nBriefing/updates: 1225 hrs.\nKSU: 1230 hrs. Ride as a group to ISVC and establish flag line on arrival. \nRC: Doug Foye (dfoyecol@aol.com) 921-7730 \nWeather: HOT: Stay Hydrated. \n—\nDario J Bell\nIdaho State Captain
URL:https://www.patriotguard.org/mission/gene-drabinski-71-usa/
CATEGORIES:Archive
END:VEVENT
END:VCALENDAR