BEGIN:VCALENDAR
VERSION:2.0
PRODID:-//Patriot Guard Riders - ECPv5.6.0//NONSGML v1.0//EN
CALSCALE:GREGORIAN
METHOD:PUBLISH
X-WR-CALNAME:Patriot Guard Riders
X-ORIGINAL-URL:https://www.patriotguard.org
X-WR-CALDESC:Events for Patriot Guard Riders
BEGIN:VTIMEZONE
TZID:America/New_York
BEGIN:DAYLIGHT
TZOFFSETFROM:-0500
TZOFFSETTO:-0400
TZNAME:EDT
DTSTART:20160313T070000
END:DAYLIGHT
BEGIN:STANDARD
TZOFFSETFROM:-0400
TZOFFSETTO:-0500
TZNAME:EST
DTSTART:20161106T060000
END:STANDARD
END:VTIMEZONE
BEGIN:VEVENT
DTSTART;TZID=America/New_York:20160701T090000
DTEND;TZID=America/New_York:20160701T110000
DTSTAMP:20210512T221101
CREATED:20160701T130000Z
LAST-MODIFIED:20191201T144715Z
UID:410941-1467363600-1467370800@www.patriotguard.org
SUMMARY:Gene A. Coe
DESCRIPTION:The Patriot Guard has been invited by the family of Gene A Coe to stand a flag line at Camp Butler National Cemetery to honor his service to this Great Nation. Gene served proudly in the US Marines from October 1950 until October of 1953. He attained the rank of Lance Corporal during his term of service. He retired from CILCO after 36 years of service in the Underground Cable Department.  Military honors will be accorded at the cemetery. \nFUNERAL SERVICE\n\nDate: Friday\, 1 July 16\nTime: 1400 hours (2:00 pm) \nPlace: Camp Butler National Cemetery\n           5063 Camp Butler Road\n           Springfield\, IL 62707 \nStaging: 1315 hours (1:15 pm) Staging will be near the administration building the first left as you enter the cemetery \nWater will be provided. Please hydrate\, hydrate\, hydrate.  \nASRC: Bruce Martin (217) 629-7660\n\nRC: James Roady w/flag support (217) 370-9384
URL:https://www.patriotguard.org/mission/gene-a-coe/
CATEGORIES:Archive
END:VEVENT
END:VCALENDAR