BEGIN:VCALENDAR
VERSION:2.0
PRODID:-//Patriot Guard Riders - ECPv5.6.0//NONSGML v1.0//EN
CALSCALE:GREGORIAN
METHOD:PUBLISH
X-WR-CALNAME:Patriot Guard Riders
X-ORIGINAL-URL:https://www.patriotguard.org
X-WR-CALDESC:Events for Patriot Guard Riders
BEGIN:VTIMEZONE
TZID:America/New_York
BEGIN:DAYLIGHT
TZOFFSETFROM:-0500
TZOFFSETTO:-0400
TZNAME:EDT
DTSTART:20160313T070000
END:DAYLIGHT
BEGIN:STANDARD
TZOFFSETFROM:-0400
TZOFFSETTO:-0500
TZNAME:EST
DTSTART:20161106T060000
END:STANDARD
END:VTIMEZONE
BEGIN:VEVENT
DTSTART;TZID=America/New_York:20160722T090000
DTEND;TZID=America/New_York:20160722T110000
DTSTAMP:20210512T225506
CREATED:20160722T130000Z
LAST-MODIFIED:20191201T144141Z
UID:410431-1469178000-1469185200@www.patriotguard.org
SUMMARY:Gary Weyan Harris\, USAF\, ODS / Shreveport
DESCRIPTION:Gary Weyan Harris\nUSAF\nShreveport\, LA.\, 07-22-2016\n\n\n\nMr. Harris was born on March 19\, 1957 in Shreveport\, Louisiana and passed away on July 15\, 2016. He proudly served in the United States Air Force for 17 years – serving in Desert Shield & Desert Storm. He was preceded in death by his parents and is survived by three daughters\, two brothers and four sisters. \nPRIMARY STAGING INFO – 07-22-2016: \n  Location:\nCorner Dean & Colquitt Rd.\nDean & Colquitt Rd.\nShreveport\, LA. \n Staging Time:\n10:45 A.M. \n  Special Instructions:\nStaging: 10:45 am – 11:15 am Will await arrival of procession and escort with LEO to Northwest Louisiana Veterans Cemetery – 7970 Mike Clark Rd. – Keithville\, LA. Establish flag line at interment shelter during service. \nRCIC:\nLouis McGinty – glmctx@wildblue.net \n  Assisting RCs:\nGlenda McGinty – glmctx@wildblue.net \n    Flags will be provided.\nLarge bike flags will be needed. \nWeather: \nHot please hydrate night before
URL:https://www.patriotguard.org/mission/gary-weyan-harris-usaf-ods-shreveport/
CATEGORIES:Archive
END:VEVENT
END:VCALENDAR