BEGIN:VCALENDAR
VERSION:2.0
PRODID:-//Patriot Guard Riders - ECPv5.6.0//NONSGML v1.0//EN
CALSCALE:GREGORIAN
METHOD:PUBLISH
X-WR-CALNAME:Patriot Guard Riders
X-ORIGINAL-URL:https://www.patriotguard.org
X-WR-CALDESC:Events for Patriot Guard Riders
BEGIN:VTIMEZONE
TZID:America/New_York
BEGIN:DAYLIGHT
TZOFFSETFROM:-0500
TZOFFSETTO:-0400
TZNAME:EDT
DTSTART:20160313T070000
END:DAYLIGHT
BEGIN:STANDARD
TZOFFSETFROM:-0400
TZOFFSETTO:-0500
TZNAME:EST
DTSTART:20161106T060000
END:STANDARD
END:VTIMEZONE
BEGIN:VEVENT
DTSTART;TZID=America/New_York:20160612T090000
DTEND;TZID=America/New_York:20160612T110000
DTSTAMP:20210513T130131
CREATED:20160612T130000Z
LAST-MODIFIED:20191201T145205Z
UID:411379-1465722000-1465729200@www.patriotguard.org
SUMMARY:Gary Marriott\, USMC
DESCRIPTION:The family of Gary ‘Coach’ Marriott has requested the Patriot Guard Riders to stand in honor of their loved One.\n\nGary served in the United States Marine Corps from 27 April\, 1970 to 26 January 1973. He was a veteran of the United States Marine Corp Airborne serving from 1970-1973 in Vietnam\, Hong Kong\, Japan\, Taiwan\, Philippines\, Greece\, Turkey Crete\, Azores & Spain as a Parachutist  and Field Radio Operator. Upon leaving the Marine Corps\, he served as the City Administrator for the city of Eldon and the coach for the Eldon High School. He received the National Service Medal\, the Vietnam Service Medal/1 and a Good Conduct Medal. He was also a founding member of the Noble Eagles Charity Organization. His obituary can be viewed at:  http://www.phillipsfuneralhomeeldon.com/notices/Gary-Marriott \nThe family has requested a flag line at the service of their loved one on Sunday\, June 12 from 2 pm (1400 hrs) to 5 pm (1700 hrs) at the Eldon Middle School 1400 North Grand Avenue\, Eldon\, MO 65026. Full Military Honors will be rendered during the services. This is a flag line request only. \nWe will have the mission briefing at 12pm (1200hrs)at the Eldon Middle School at 1400 North Grand Avenue\, Eldon\, MO 65026. \nRide Captain: John “Ozark” Morlock\n[URL=”tel:%28573%29%20280-3240″](573) 280-3240[/URL]
URL:https://www.patriotguard.org/mission/gary-marriott-usmc/
CATEGORIES:Archive
END:VEVENT
END:VCALENDAR