BEGIN:VCALENDAR
VERSION:2.0
PRODID:-//Patriot Guard Riders - ECPv5.6.0//NONSGML v1.0//EN
CALSCALE:GREGORIAN
METHOD:PUBLISH
X-WR-CALNAME:Patriot Guard Riders
X-ORIGINAL-URL:https://www.patriotguard.org
X-WR-CALDESC:Events for Patriot Guard Riders
BEGIN:VTIMEZONE
TZID:America/New_York
BEGIN:DAYLIGHT
TZOFFSETFROM:-0500
TZOFFSETTO:-0400
TZNAME:EDT
DTSTART:20160313T070000
END:DAYLIGHT
BEGIN:STANDARD
TZOFFSETFROM:-0400
TZOFFSETTO:-0500
TZNAME:EST
DTSTART:20161106T060000
END:STANDARD
END:VTIMEZONE
BEGIN:VEVENT
DTSTART;TZID=America/New_York:20160609T090000
DTEND;TZID=America/New_York:20160609T110000
DTSTAMP:20210513T163610
CREATED:20160609T130000Z
LAST-MODIFIED:20191201T145308Z
UID:411471-1465462800-1465470000@www.patriotguard.org
SUMMARY:Gary L. Haley\, 65\, USAF
DESCRIPTION:Gary L. Haley\, 65\nUSAF Vietnam Veteran\nBall\, LA 71405\n06-09-2016\n\n\n\nThe family of Mr Haley (age 65) has ask the PGR to stand in Honor of their Hero. Mr Haley is survived by his Father\, 1 Daughter\, and 1 Brother \nPRIMARY STAGING INFO – 06-09-2016:\nLocation:\nGallagher Funeral Home\n3994 Monroe Hwy (US 165)\nBall\, LA 71405 \nStaging Time: 12:00 P.M. \nSpecial Instructions:\nWe will leave about 12:30 and escort to Central Louisiana Veterans Cemetery in Leesville for graveside services\, for those in the Leesville area that want to go straight to the Cemetery \, services are scheduled for 2:00 pm\,  We will not fly big flags due to running at highway speeds for a extended period of time \nRCIC:\nCarlton Sanburn\ncarltonsanburn@bellsouth.net \nAssisting RCs:\nRonnie Toney\nronald.toney56@gmail.com \nFlags will be provided.\nLarge bike flags will NOT be needed. \nWeather: sunny Low 90’s
URL:https://www.patriotguard.org/mission/gary-l-haley-65-usaf/
CATEGORIES:Archive
END:VEVENT
END:VCALENDAR