BEGIN:VCALENDAR
VERSION:2.0
PRODID:-//Patriot Guard Riders - ECPv5.3.2.1//NONSGML v1.0//EN
CALSCALE:GREGORIAN
METHOD:PUBLISH
X-WR-CALNAME:Patriot Guard Riders
X-ORIGINAL-URL:https://www.patriotguard.org
X-WR-CALDESC:Events for Patriot Guard Riders
BEGIN:VTIMEZONE
TZID:America/New_York
BEGIN:DAYLIGHT
TZOFFSETFROM:-0500
TZOFFSETTO:-0400
TZNAME:EDT
DTSTART:20190310T070000
END:DAYLIGHT
BEGIN:STANDARD
TZOFFSETFROM:-0400
TZOFFSETTO:-0500
TZNAME:EST
DTSTART:20191103T060000
END:STANDARD
END:VTIMEZONE
BEGIN:VEVENT
DTSTART;VALUE=DATE:20190723
DTEND;VALUE=DATE:20190724
DTSTAMP:20210404T052849
CREATED:20190722T004558Z
LAST-MODIFIED:20190722T004558Z
UID:168463-1563840000-1563926399@www.patriotguard.org
SUMMARY:Gary Kieffer
DESCRIPTION:Honor Mission\nGary Kieffer\, Retired\nUSAF – Vietnam\nAlexandria\, Louisiana – 07-23-19\n\n\n\nABOUT THE MISSION: \nThe Family of Mr Kieffer has asked the PGR to stand in Honor of their Hero. Mr Kieffer was a life member of the VFW\, Amvets\, American Legion and the 40&8\, He is survived by his wife and 4 daughters.\n\n\nPRIMARY STAGING DETAILS: 07-23-19 \nStaging Time: 08:45 AM\n \nSt Frances Cabrini Catholic Church\n2211 E Texas Ave\nAlexandria\, Louisiana 71301\n\n\nRide Captain: \nCarlton “Brakes” Sanburn\ncarltonsanburn@bellaouth.net\n\n\nSpecial Instructions: \nWe will stand a flag line from 9:00 till time of services at 10:00.\nThere will be about a 5 mile escort to Greenwood Cemetery for final interment.\n\n\nFlags & Water:\nFlags will be provided\nIf you have large bike flags\, please bring them.\nWater WILL NOT be provided\, please bring your own.\n\n\n\nSubmitted By: Kenny Case \nPosition: Dixie Regional Captain \n\nNote: You do not have to own/ride a motorcycle or be a veteran to join\, and membership is Free. The only requirement is RESPECT! To subscribe to receive mission notices\, log into the National Site and click on the Members tab at the top. Select the Subscribe to PGR Missions option.\n Print This Page
URL:https://www.patriotguard.org/mission/gary-kieffer/
CATEGORIES:Honor Mission
END:VEVENT
END:VCALENDAR