BEGIN:VCALENDAR
VERSION:2.0
PRODID:-//Patriot Guard Riders - ECPv5.6.0//NONSGML v1.0//EN
CALSCALE:GREGORIAN
METHOD:PUBLISH
X-WR-CALNAME:Patriot Guard Riders
X-ORIGINAL-URL:https://www.patriotguard.org
X-WR-CALDESC:Events for Patriot Guard Riders
BEGIN:VTIMEZONE
TZID:America/New_York
BEGIN:DAYLIGHT
TZOFFSETFROM:-0500
TZOFFSETTO:-0400
TZNAME:EDT
DTSTART:20160313T070000
END:DAYLIGHT
BEGIN:STANDARD
TZOFFSETFROM:-0400
TZOFFSETTO:-0500
TZNAME:EST
DTSTART:20161106T060000
END:STANDARD
END:VTIMEZONE
BEGIN:VEVENT
DTSTART;TZID=America/New_York:20160620T090000
DTEND;TZID=America/New_York:20160620T110000
DTSTAMP:20210513T173416
CREATED:20160620T130000Z
LAST-MODIFIED:20191201T145200Z
UID:411372-1466413200-1466420400@www.patriotguard.org
SUMMARY:Gary Jay Guthrie\, 68\, USAF
DESCRIPTION:Ladies and Gentlemen of the Patriot Guard Riders\, we have been requested to stand for U.S. Air Force TSgt Gary Guthrie\, 68.  Gary served in Vietnam.  He has two children and his son is serving in the Air Force at this time.  Please join us as we help support his family\, pay our respects\, and honor his service to our nation. \nMission Date: Monday\, 20/JUN/16 \nRide Captain:  Blue Bickford   drbluepsu@gmail.com \nStaging Location: Willamette National Cemetery – 11800 SE Mt Scott Blvd.\, Portland\, OR – up top at the Rostrum by the flagpole\, please enter the cemetery through Gate 2 – across from Lincoln Memorial. \nStaging Time:  12:00 pm      Briefing:  12:20 pm     KSU:  12:30 pm \nFlagline Set:  12:45 pm \nService Begins: 1:00 pm\n*** There will be a RHG from the office to the shelter. \n—\nJohn Hanan II\nPGR – Oregon State Captain
URL:https://www.patriotguard.org/mission/gary-jay-guthrie-68-usaf/
CATEGORIES:Archive
END:VEVENT
END:VCALENDAR