BEGIN:VCALENDAR
VERSION:2.0
PRODID:-//Patriot Guard Riders - ECPv5.6.0//NONSGML v1.0//EN
CALSCALE:GREGORIAN
METHOD:PUBLISH
X-WR-CALNAME:Patriot Guard Riders
X-ORIGINAL-URL:https://www.patriotguard.org
X-WR-CALDESC:Events for Patriot Guard Riders
BEGIN:VTIMEZONE
TZID:America/New_York
BEGIN:DAYLIGHT
TZOFFSETFROM:-0500
TZOFFSETTO:-0400
TZNAME:EDT
DTSTART:20160313T070000
END:DAYLIGHT
BEGIN:STANDARD
TZOFFSETFROM:-0400
TZOFFSETTO:-0500
TZNAME:EST
DTSTART:20161106T060000
END:STANDARD
END:VTIMEZONE
BEGIN:VEVENT
DTSTART;TZID=America/New_York:20160606T090000
DTEND;TZID=America/New_York:20160606T110000
DTSTAMP:20210513T171032
CREATED:20160606T130000Z
LAST-MODIFIED:20191201T145416Z
UID:411573-1465203600-1465210800@www.patriotguard.org
SUMMARY:Gary Hale\, 65
DESCRIPTION:Gary Hale\, 65\nUS Army Veteran\nAshland\, KY\n6 June 2016\n\n\n\nWe have been invited by the family of Gary Hale\, US Army Veteran\, to stand in his honor. \nMr. Hale served for four years during which part of his time was serving in Korea.  Mr. Hale received several citations and awards.  It is our honor now to stand for him.  The following arrangements have been made… \nFUNERAL \nDAY/DATE:  Monday\, June 6\, 2016 \nPLACE:  Ashland Plaza Nazarene Church\, 400 Diederich Blvd\, Ashland\, KY 41101 \nTIME:  12:00 pm \nSTAGING AREA:  McDonald’s\, 150 Russell Road\, Ashland\, KY 41101 (on US 23 across from AK Steel Main Gate) \nSTAGING TIME:  10:30 am \nKSU:  10:40 am \nBurial will be at the Kentucky Veteran’s Cemetery NE directly following the service. \nPlease bring your 3×5 American flags\, arrive hydrated\, and dress according to the weather conditions. \nEd Hicks and I will be the Ride Captains for this mission.   If you have any questions\, please contact me at the number below.  My thanks to each of you.  Take care and ride safely. \nTom Epperly\nSr. Ride Captain\n606.571.9022
URL:https://www.patriotguard.org/mission/gary-hale-65/
CATEGORIES:Archive
END:VEVENT
END:VCALENDAR