BEGIN:VCALENDAR
VERSION:2.0
PRODID:-//Patriot Guard Riders - ECPv5.6.0//NONSGML v1.0//EN
CALSCALE:GREGORIAN
METHOD:PUBLISH
X-WR-CALNAME:Patriot Guard Riders
X-ORIGINAL-URL:https://www.patriotguard.org
X-WR-CALDESC:Events for Patriot Guard Riders
BEGIN:VTIMEZONE
TZID:America/New_York
BEGIN:DAYLIGHT
TZOFFSETFROM:-0500
TZOFFSETTO:-0400
TZNAME:EDT
DTSTART:20160313T070000
END:DAYLIGHT
BEGIN:STANDARD
TZOFFSETFROM:-0400
TZOFFSETTO:-0500
TZNAME:EST
DTSTART:20161106T060000
END:STANDARD
END:VTIMEZONE
BEGIN:VEVENT
DTSTART;TZID=America/New_York:20160714T090000
DTEND;TZID=America/New_York:20160714T110000
DTSTAMP:20210512T153405
CREATED:20160714T130000Z
LAST-MODIFIED:20191201T144518Z
UID:410761-1468486800-1468494000@www.patriotguard.org
SUMMARY:Gary Grant Gargus\, USAF
DESCRIPTION:SSgt Gary Grant Gargus\, Veteran Vietnam – Grand Junction\, CO\, 14 Jul 2016 \nWe have been invited to attend the Funeral of SSgt Gary Grant Gargus\, Veteran\, US Air Force\, Vietnam \nInterment 1000(10am) 14 Jul at\nVeterans Memorial Cemetery\n2830 Riverside Parkway\nGrand Junction\, CO \nStage 09:15am at Shelter Area \nRide Captain:\nBarry Force \nContact:\nArt Edwards\nharleyroadk@yahoo.com
URL:https://www.patriotguard.org/mission/gary-grant-gargus-usaf/
CATEGORIES:Archive
END:VEVENT
END:VCALENDAR