BEGIN:VCALENDAR
VERSION:2.0
PRODID:-//Patriot Guard Riders - ECPv5.3.2.1//NONSGML v1.0//EN
CALSCALE:GREGORIAN
METHOD:PUBLISH
X-WR-CALNAME:Patriot Guard Riders
X-ORIGINAL-URL:https://www.patriotguard.org
X-WR-CALDESC:Events for Patriot Guard Riders
BEGIN:VTIMEZONE
TZID:America/New_York
BEGIN:DAYLIGHT
TZOFFSETFROM:-0500
TZOFFSETTO:-0400
TZNAME:EDT
DTSTART:20170312T070000
END:DAYLIGHT
BEGIN:STANDARD
TZOFFSETFROM:-0400
TZOFFSETTO:-0500
TZNAME:EST
DTSTART:20171105T060000
END:STANDARD
END:VTIMEZONE
BEGIN:VEVENT
DTSTART;TZID=America/New_York:20170411T140000
DTEND;TZID=America/New_York:20170411T160000
DTSTAMP:20210406T021027
CREATED:20170411T180000Z
LAST-MODIFIED:20191201T034444Z
UID:342302-1491919200-1491926400@www.patriotguard.org
SUMMARY:Gary E. VanHouten\, Veteran\, USA - Vietnam
DESCRIPTION:Gary E. VanHouten\, Veteran \nUSA – Vietnam \nPortland\, Oregon – 11 Apr 2017\n\n[HR][/HR]\nABOUT THE MISSION: \nMr. VanHouten joined the U.S. Army on July 1968 and was assigned to the 101st Airborne Division as a rifleman. He served in Vietnam from 1969 until 1970. He was awarded the following recognitions: Army Commendation Medal\, National Defense Service Medal\, Vietnam Service Medal\, Vietnam Campaign Medal W/device\, Combat Infantryman Badge\, Sharp shooter (M-14)\, Overseas Service Bar. He was Discharged from the regular Army in April 1970 and remained in the Army Reserve until July\, 1974\, being honorably discharged at the rank of SSgt (E-6). Please join us as we help support his family\, pay our respects\, and honor his service to our nation. \nPRIMARY STAGING DETAILS: 11 Apr 2017 \n \nPrimary Staging Time: 2:00 P.M.\n\nWillamette National Cemetery\n11800 SE Mt. Scott Blvd\n\nPortland\, Oregon – 97086\n\n\n\n \n\nRide Captain:\n\nJim Kruchoski\njk4pgr@hotmail.com\n\n \nSpecial Instructions:\n\nBriefing: 2:20 pm\nKSU: 2:30 pm\nFlag line Set: 2:45 pm\nService Begins: 3:00 pm \n*** There will be a RHG from the cortege to the shelter.\n\n \nFlags & Water:\n\nFlags Will NOT Be Provided\, Please Bring Your Own.\n\nIf you have large bike flags\, please bring them.\n\nWater WILL NOT be provided\, please bring your own.\n\n\nSubmitted By: John Hanan II\nPosition: State Captain \n[HR][/HR]\nNote:\nYou do not have to own/ride a motorcycle or be a Veteran to join and membership is Free. The only requirement is RESPECT! To join\, simply go to www.PatriotGuard.org and click on Register. Membership is Free. \nTo subscribe to receive mission notices\, log into the National Site and click on the Mission Tab at the top. Select Upcoming Missions by State. Scroll to the state(s) you would like to receive notices for and click on the green check mark. Detailed instructions are also located in the FAQs on the site by clicking on the Quick Links Tab and selecting FAQs.
URL:https://www.patriotguard.org/mission/gary-e-vanhouten-veteran-usa-vietnam/
LOCATION:Donald Eric Martin
END:VEVENT
END:VCALENDAR