BEGIN:VCALENDAR
VERSION:2.0
PRODID:-//Patriot Guard Riders - ECPv5.3.2.1//NONSGML v1.0//EN
CALSCALE:GREGORIAN
METHOD:PUBLISH
X-WR-CALNAME:Patriot Guard Riders
X-ORIGINAL-URL:https://www.patriotguard.org
X-WR-CALDESC:Events for Patriot Guard Riders
BEGIN:VTIMEZONE
TZID:America/New_York
BEGIN:DAYLIGHT
TZOFFSETFROM:-0500
TZOFFSETTO:-0400
TZNAME:EDT
DTSTART:20190310T070000
END:DAYLIGHT
BEGIN:STANDARD
TZOFFSETFROM:-0400
TZOFFSETTO:-0500
TZNAME:EST
DTSTART:20191103T060000
END:STANDARD
END:VTIMEZONE
BEGIN:VEVENT
DTSTART;VALUE=DATE:20190708
DTEND;VALUE=DATE:20190709
DTSTAMP:20210404T051137
CREATED:20190707T143611Z
LAST-MODIFIED:20190707T143611Z
UID:166881-1562544000-1562630399@www.patriotguard.org
SUMMARY:Gary David Holmes
DESCRIPTION:Honor Mission\nGary David Holmes \, Veteran\nUSN – \, Vietnam\nColumbia\, Missouri – 07-08-19\n\n\n\n\nABOUT THE MISSION: \nHero Gary David Holmes proudly served as a member of the United States Navy during the Vietnam War\n\n\nPRIMARY STAGING DETAILS: 07-08-19 \nStaging Time: 12:00  \nParker-Millard Funeral Service\n12 East Ash Street\nColumbia\, Missouri 65203\nMap\n\n\nRide Captain: \nBill Stucker\nwestucker 45@aol.com or westucker45@gmail.com\n573-680-9494\n\n\nSpecial Instructions: \nStage 12:00 Briefing 12:10 KSU 12:30 No visitation flag line. Escort only to Jacksonville Missouri State Veteran’s Cemetery\n\nFlags & Water:\nFlags will be provided\nIf you have large bike flags\, please bring them.\nWater WILL NOT be provided\, please bring your own.\n\nSTAGING #2 DETAILS: 07-08-19 \nStaging Time: 1:45  \nMissouri Veterans Cemetery\n1479 County Road 1675\nJacksonville\, Missouri\, Missouri 65260\n\n\nRide Captain: \nBill Stucker\nwestucker45@gmail.com or westucker45@aol.com\n573-680-9494\n\n\nSpecial Instructions: \nFlag line during committal services and Military Honors\n\nFlags & Water:\nFlags will be provided\nIf you have large bike flags\, please bring them.\nWater WILL NOT be provided\, please bring your own.\n\n\n\nSubmitted By: William Stucker \nPosition: Missouri Ride Captain \n\nNote: You do not have to own/ride a motorcycle or be a veteran to join\, and membership is Free. The only requirement is RESPECT! To subscribe to receive mission notices\, log into the National Site and click on the Members tab at the top. Select the Subscribe to PGR Missions option.\n Print This Page
URL:https://www.patriotguard.org/mission/gary-david-holmes/
CATEGORIES:Honor Mission
END:VEVENT
END:VCALENDAR