BEGIN:VCALENDAR
VERSION:2.0
PRODID:-//Patriot Guard Riders - ECPv5.6.0//NONSGML v1.0//EN
CALSCALE:GREGORIAN
METHOD:PUBLISH
X-WR-CALNAME:Patriot Guard Riders
X-ORIGINAL-URL:https://www.patriotguard.org
X-WR-CALDESC:Events for Patriot Guard Riders
BEGIN:VTIMEZONE
TZID:America/New_York
BEGIN:DAYLIGHT
TZOFFSETFROM:-0500
TZOFFSETTO:-0400
TZNAME:EDT
DTSTART:20160313T070000
END:DAYLIGHT
BEGIN:STANDARD
TZOFFSETFROM:-0400
TZOFFSETTO:-0500
TZNAME:EST
DTSTART:20161106T060000
END:STANDARD
END:VTIMEZONE
BEGIN:VEVENT
DTSTART;TZID=America/New_York:20160602T090000
DTEND;TZID=America/New_York:20160602T110000
DTSTAMP:20210513T162228
CREATED:20160602T130000Z
LAST-MODIFIED:20191201T145500Z
UID:411640-1464858000-1464865200@www.patriotguard.org
SUMMARY:Gary Andrew Pratt\, 54
DESCRIPTION:Honor Mission\nMr. Gary Andrew Pratt\, 54\nDayton\, Ohio\nPatriot Guard Riders\n\n[ATTACH=CONFIG]4765[/ATTACH]\n\n\n\nVisitation/Service:\nNewcomer Funeral Home & Crematory – North Chapel\n4104 Needmore Road\nDayton\, Ohio 45424\nVisitation:  02 June 2016@1230-1330hrs-(12:30-1:30 PM)\nService:  02 June 2016@1330hrs-(1:30 PM)\nStaging: 02 June 2016@110hrs-(11:30 AM) \nInterment:  Dayton Memorial Park\, following the Service \nDistrict #4 Ride Captain Bud Zartman is assigned this mission of Honor and Respect. Please follow his instructions. Dress per the weather conditions and remember your 3’x5’ American flags. Use your own judgment on how you get safely to and from the mission. If you need to contact Bud\, email Him at: justcallmebud@woh.rr.com.\n\n \n\n“Rest in Peace Mr. Pratt”\n[ATTACH=CONFIG]4766[/ATTACH]\n\nBob Woods\nOhio State Captain
URL:https://www.patriotguard.org/mission/gary-andrew-pratt-54/
CATEGORIES:Archive
END:VEVENT
END:VCALENDAR