BEGIN:VCALENDAR
VERSION:2.0
PRODID:-//Patriot Guard Riders - ECPv5.3.2.1//NONSGML v1.0//EN
CALSCALE:GREGORIAN
METHOD:PUBLISH
X-WR-CALNAME:Patriot Guard Riders
X-ORIGINAL-URL:https://www.patriotguard.org
X-WR-CALDESC:Events for Patriot Guard Riders
BEGIN:VTIMEZONE
TZID:America/New_York
BEGIN:DAYLIGHT
TZOFFSETFROM:-0500
TZOFFSETTO:-0400
TZNAME:EDT
DTSTART:20190310T070000
END:DAYLIGHT
BEGIN:STANDARD
TZOFFSETFROM:-0400
TZOFFSETTO:-0500
TZNAME:EST
DTSTART:20191103T060000
END:STANDARD
END:VTIMEZONE
BEGIN:VEVENT
DTSTART;VALUE=DATE:20190329
DTEND;VALUE=DATE:20190330
DTSTAMP:20210405T174155
CREATED:20190327T230932Z
LAST-MODIFIED:20190327T231026Z
UID:154680-1553817600-1553903999@www.patriotguard.org
SUMMARY:Garrett Bosket
DESCRIPTION:Honor Mission\nGarrett Bosket\, Active Duty\nUSA –\nMULTI-CITY\, California – 03-29-19\n\n\n\n\nABOUT THE MISSION: \nThe family and the US Army have invited the Patriot Guard Riders to help to bring this Hero home to his family and honor him for his military service\, we will be honored to do so. PFC Garrett Bosket served proudly in the US Army as a Paratrooper and was stationed at Ft Lewis\, Washington. Garrett was a fan of country western music\, the Angels Baseball team\, Denver Broncos and the LA Kings ice hockey. He will be dearly missed by his family\, friends and his brothers & sisters of the Army.\nNOTE: This mission posting is to facilitate your voluntary participation in honoring this American Hero. For those interested\, and all are welcome\, we will be accompanying the hero and his family from the airport to the mortuary\, approx 23 miles. Please see the time table if you would like to participate. For those who would rather go directly to the mortuary\, we will meet you there.\n\n\nPRIMARY STAGING DETAILS: 03-29-19 \nStaging Time: 7:00 PM\n \nJack in the Box\n1840 E. Holt Blvd.\nOntario\, California 91761\nMap\n\n\nRide Captain: \nCraig (Gunny) Donor\, GySgt USMC (ret)\nCell 909 208 7703\npgrgunny-001@yahoo.com\n\n\nSpecial Instructions: \n7:00 pm – Stage at Jack in the Box\n7:15 pm – Mission briefing\n7:45 pm – Move to arrival location\n8:15 pm – Est KSU to Miller-Jones Mortuary\, 23618 Sunnymead Blvd\, Moreno Valley\, CA 92553.\nMap\n8:45 pm – Est arrival at mortuary\n9:00 pm – Flag Line for dignified transfer of Hero from coach to building\n\n\nFlags & Water:\nFlags will not be provided\nIf you have large bike flags\, please bring them.\nWater WILL NOT be provided\, please bring your own.\n\n\n\nSubmitted By: Beth Allen \nPosition: California Ride Captain \n\nNote: You do not have to own/ride a motorcycle or be a veteran to join\, and membership is Free. The only requirement is RESPECT! To subscribe to receive mission notices\, log into the National Site and click on the Members tab at the top. Select the Subscribe to PGR Missions option.\n Print This Page
URL:https://www.patriotguard.org/mission/garrett-bosket/
CATEGORIES:Honor Mission
END:VEVENT
END:VCALENDAR