BEGIN:VCALENDAR
VERSION:2.0
PRODID:-//Patriot Guard Riders - ECPv5.6.0//NONSGML v1.0//EN
CALSCALE:GREGORIAN
METHOD:PUBLISH
X-WR-CALNAME:Patriot Guard Riders
X-ORIGINAL-URL:https://www.patriotguard.org
X-WR-CALDESC:Events for Patriot Guard Riders
BEGIN:VTIMEZONE
TZID:America/New_York
BEGIN:DAYLIGHT
TZOFFSETFROM:-0500
TZOFFSETTO:-0400
TZNAME:EDT
DTSTART:20160313T070000
END:DAYLIGHT
BEGIN:STANDARD
TZOFFSETFROM:-0400
TZOFFSETTO:-0500
TZNAME:EST
DTSTART:20161106T060000
END:STANDARD
END:VTIMEZONE
BEGIN:VEVENT
DTSTART;TZID=America/New_York:20160801T090000
DTEND;TZID=America/New_York:20160801T110000
DTSTAMP:20210511T202023
CREATED:20160801T130000Z
LAST-MODIFIED:20191201T143922Z
UID:410216-1470042000-1470049200@www.patriotguard.org
SUMMARY:Gail R Smith\, 85\, USA
DESCRIPTION:The  Patriot Guard has been requested by the family of Gail Smith to stand a  flag line prior to his funeral in honor of his service to this great nation. \nGail served in the U.S. Army in Korea during the Korean War. \nHe was a member of the American Legion. \nGail was able to fly on an Honor Flight to Washington\, DC\, in 2014.\n\nFUNERAL SERVICE \nDate:  Mon\,1 Aug 16\nTime:  1000 hrs (10:00 am) \nPlace: Clayton Christian Church\n202 E Main St\nClayton\, IL 62324 \nStaging:  0900 hrs (09:00 am) at the Church\nLine up for escort per RC instructions \nFollowing the funeral service we will provide an escort for family and friends to a local cemetery for Gail’s interment.  Full military honors will be accorded at the cemetery. \nASRC: Bruce Martin (217) 629-7660 \nRC: James Roady w/flag support (217) 370-9384
URL:https://www.patriotguard.org/mission/gail-r-smith-85-usa/
CATEGORIES:Archive
END:VEVENT
END:VCALENDAR