BEGIN:VCALENDAR
VERSION:2.0
PRODID:-//Patriot Guard Riders - ECPv5.3.2.1//NONSGML v1.0//EN
CALSCALE:GREGORIAN
METHOD:PUBLISH
X-WR-CALNAME:Patriot Guard Riders
X-ORIGINAL-URL:https://www.patriotguard.org
X-WR-CALDESC:Events for Patriot Guard Riders
BEGIN:VTIMEZONE
TZID:America/New_York
BEGIN:DAYLIGHT
TZOFFSETFROM:-0500
TZOFFSETTO:-0400
TZNAME:EDT
DTSTART:20190310T070000
END:DAYLIGHT
BEGIN:STANDARD
TZOFFSETFROM:-0400
TZOFFSETTO:-0500
TZNAME:EST
DTSTART:20191103T060000
END:STANDARD
END:VTIMEZONE
BEGIN:VEVENT
DTSTART;VALUE=DATE:20190705
DTEND;VALUE=DATE:20190706
DTSTAMP:20210403T185128
CREATED:20190630T105406Z
LAST-MODIFIED:20190630T105406Z
UID:166314-1562284800-1562371199@www.patriotguard.org
SUMMARY:Gabriel Caballes
DESCRIPTION:Honor Mission\nGabriel Caballes\, Retired\nUSA –\nKilleen\, Texas – 07-05-19\n\n\n\nABOUT THE MISSION: \nCommand Sergeant Major Gabriel Caballes\, 72\, US Army\, Retired\, Purple Heart Recipient\, of Killeen\, Texas. Once his obituary is published\, you may find it here: https://www.dignitymemorial.com/obituaries/killeen-tx/gabriel-caballes-8755285\n\n\nPRIMARY STAGING DETAILS: 07-05-19 \nStaging Time: 10:05 AM\n \nCrawford-Bowers Funeral Home\n1615 South Fort Hood St\nKilleen\, Texas 76542\nMap\n\n\nRide Captain: \nThomas “Sleepy” Weideman\n254.258.4901\nTWeideman@hot.rr.com\n\n\nSpecial Instructions: \nBriefing: 10:15 A.M.\nFlagline Establishment: 10:25 +/-\nOnce the Funeral Service begins; we will strike the flagline and depart quietly.\n\n\nFlags & Water:\nFlags will be provided\nLarge Bike Flags will NOT be needed.\nWater will be provided.\n\nSTAGING #2 DETAILS: 07-05-19 \nStaging Time: 12:05 PM\n \nCentral Texas State Veterans Cemetery\n11463 SH 195\nKilleen\, Texas 76542\nMap\n\n\nRide Captain: \nThomas “Sleepy” Weideman\n254.258.4901\nTWeideman@hot.rr.com\n\n\nSpecial Instructions: \nMeet at the cul-de-sac between the Walk of Heroes and the Memorial Shelter.\nUpon clearance and at the direction of the Ride Captain\, we will move to the shelter\, set up the flags\, be briefed and await arrival of the procession.\nWX: Mostly sunny\, with a high near 92.\n\n\nFlags & Water:\nFlags will be provided\nLarge Bike Flags will NOT be needed.\nWater will be provided.\n\n\n\nSubmitted By: Holly Melendez \nPosition: Texas Ride Captain \n\nNote: You do not have to own/ride a motorcycle or be a veteran to join\, and membership is Free. The only requirement is RESPECT! To subscribe to receive mission notices\, log into the National Site and click on the Members tab at the top. Select the Subscribe to PGR Missions option.\n Print This Page
URL:https://www.patriotguard.org/mission/gabriel-caballes/
CATEGORIES:Honor Mission
END:VEVENT
END:VCALENDAR