BEGIN:VCALENDAR
VERSION:2.0
PRODID:-//Patriot Guard Riders - ECPv5.3.2.1//NONSGML v1.0//EN
CALSCALE:GREGORIAN
METHOD:PUBLISH
X-WR-CALNAME:Patriot Guard Riders
X-ORIGINAL-URL:https://www.patriotguard.org
X-WR-CALDESC:Events for Patriot Guard Riders
BEGIN:VTIMEZONE
TZID:America/New_York
BEGIN:DAYLIGHT
TZOFFSETFROM:-0500
TZOFFSETTO:-0400
TZNAME:EDT
DTSTART:20180311T070000
END:DAYLIGHT
BEGIN:STANDARD
TZOFFSETFROM:-0400
TZOFFSETTO:-0500
TZNAME:EST
DTSTART:20181104T060000
END:STANDARD
END:VTIMEZONE
BEGIN:VEVENT
DTSTART;TZID=America/New_York:20180321T111500
DTEND;TZID=America/New_York:20180321T131500
DTSTAMP:20210401T193402
CREATED:20180321T151500Z
LAST-MODIFIED:20191201T031756Z
UID:323017-1521630900-1521638100@www.patriotguard.org
SUMMARY:French Legion of Honor Medal Ceremony\, Jack Baker
DESCRIPTION:HOTH Mission \n\nFrench Medal of Honor Ceremony\, Jack Baker\nGrayson\, Kentucky – 21 Mar 2018\n\n\n[HR][/HR]\nABOUT THE MISSION: \n\nMr. Baker landed at Sector Dog Green on Omaha Beach and fought through the Cherborg Forest. He was in the critical fight at St. Lo and was there as the Germans collapsed and surrendered en masse at the Falaise Gap. He\, with First Army\, was among the first U.S. troops to enter and liberate Paris. He then went on through the battle of Aachen\, the battle of Hergen Forest and as the U.S. crossed the Siegfried Line. \nMr. Baker is 98. He has been awarded five Bronze Stars for his WWII service. He was approved in June 2017 for the French Legion of Honor\, that nation’s highest medal. \nAn official from France will be at the ceremony to present him the French Legion of Honor Medal. We have been asked to stand and in honor of his service to our nation. \nLocation\nOld High School \n\n\nPRIMARY STAGING DETAILS:  21 Mar 2018\nPrimary Staging Time: 11:15 A.M. \n\nMcDonalds\n751 Carol Malone Blvd\nGrayson\, Kentucky –\n\n\nRide Captain: \n\nTom Epperly\n606.571.9022\n\n\nSpecial Instructions: \n\nKSU 11:30 a.m. \nWe will travel to the Old High School\, 120 Comet Drive\, Olive Hill\, KY and provide a flag line outside until 12:55 pm\, then take the flag line inside for the ceremony.  Bikes will not be needed as no escort is requested.\n \n\nFlags & Water: \n\nFlags Will NOT Be Provided\, Please Bring Your Own.\nLarge Bike Flags will NOT be needed.\nWater WILL NOT be provided\, please bring your own.\n\nSubmitted By: Tom Folsom\nPosition: State Captain\n[HR][/HR]Note:\nYou do not have to own/ride a motorcycle or be a Veteran to join and membership is Free. The only requirement is RESPECT! To join\, simply go to www.PatriotGuard.org and click on Register. Membership is Free. \nTo subscribe to receive mission notices\, log into the National Site and click on the Mission Tab at the top. Select the Subscribe to Missions option.
URL:https://www.patriotguard.org/mission/french-legion-of-honor-medal-ceremony-jack-baker/
END:VEVENT
END:VCALENDAR