BEGIN:VCALENDAR
VERSION:2.0
PRODID:-//Patriot Guard Riders - ECPv5.3.2.1//NONSGML v1.0//EN
CALSCALE:GREGORIAN
METHOD:PUBLISH
X-WR-CALNAME:Patriot Guard Riders
X-ORIGINAL-URL:https://www.patriotguard.org
X-WR-CALDESC:Events for Patriot Guard Riders
BEGIN:VTIMEZONE
TZID:America/New_York
BEGIN:DAYLIGHT
TZOFFSETFROM:-0500
TZOFFSETTO:-0400
TZNAME:EDT
DTSTART:20170312T070000
END:DAYLIGHT
BEGIN:STANDARD
TZOFFSETFROM:-0400
TZOFFSETTO:-0500
TZNAME:EST
DTSTART:20171105T060000
END:STANDARD
END:VTIMEZONE
BEGIN:VEVENT
DTSTART;TZID=America/New_York:20171101T131500
DTEND;TZID=America/New_York:20171101T151500
DTSTAMP:20210403T034311
CREATED:20171101T171500Z
LAST-MODIFIED:20191201T033909Z
UID:338701-1509542100-1509549300@www.patriotguard.org
SUMMARY:Freedom’s Never Free
DESCRIPTION:Freedom’s Never Free\nMULTI-CITY\, Ohio – 01 Nov 2017\n\n\n[HR][/HR]\nABOUT THE MISSION: \n\nTribute to Valor Escort\n\n\nPRIMARY STAGING DETAILS:  01 Nov 2017\nPrimary Staging Time: 1:15 pm \n\nKillbuck Creek Distillery\n42879 U.S. Route 36\nWarsaw\, Ohio – 43844\nMap to Staging Area # 1:  https://binged.it/2yjwKgN\n\n\nRide Captain: \n\nRay Schwabe\nrayschwabe@sbcglobal.net \n\n\nSpecial Instructions:\n \n\nKickstands up: 2:15 pm \n\n\n Flags & Water: \n\nFlags Will NOT Be Provided\, Please Bring Your Own.\nIf you have large bike flags\, please bring them.\nWater WILL NOT be provided\, please bring your own.\n\n\n[HR][/HR]STAGING #2 DETAILS: 01 Nov 2017\nStaging #2 Time: 2:15 pm. \n\nBP/Wendy’s\n55 Dayton Road\nNewark\, Ohio – 43055\nMap to BP/Wendy’s:  https://binged.it/2yl1IVX\n\n\nRide Captain: \n\nRay Schwabe\nrayschwabe@sbcglobal.net \n\n\nSpecial Instructions: \n\nKickstands up: 3:15 pm \n\n \nFlags & Water: \n\nFlags Will NOT Be Provided\, Please Bring Your Own.\nLarge Bike Flags will be needed\nWater WILL NOT be provided\, please bring your own.\n\n\nSubmitted By: Robert Woods\nPosition: State Captain\n[HR][/HR]Note:\n\nYou do not have to own/ride a motorcycle or be a Veteran to join and membership is Free. The only requirement is RESPECT! To join\, simply go to www.PatriotGuard.org and click on Register. Membership is Free. \nTo subscribe to receive mission notices\, log into the National Site and click on the Mission Tab at the top. Select the Subscribe to Missions option.
URL:https://www.patriotguard.org/mission/freedoms-never-free/
LOCATION:Armando Angel Ramirez
END:VEVENT
END:VCALENDAR