BEGIN:VCALENDAR
VERSION:2.0
PRODID:-//Patriot Guard Riders - ECPv5.3.2.1//NONSGML v1.0//EN
CALSCALE:GREGORIAN
METHOD:PUBLISH
X-WR-CALNAME:Patriot Guard Riders
X-ORIGINAL-URL:https://www.patriotguard.org
X-WR-CALDESC:Events for Patriot Guard Riders
BEGIN:VTIMEZONE
TZID:America/New_York
BEGIN:DAYLIGHT
TZOFFSETFROM:-0500
TZOFFSETTO:-0400
TZNAME:EDT
DTSTART:20190310T070000
END:DAYLIGHT
BEGIN:STANDARD
TZOFFSETFROM:-0400
TZOFFSETTO:-0500
TZNAME:EST
DTSTART:20191103T060000
END:STANDARD
END:VTIMEZONE
BEGIN:VEVENT
DTSTART;VALUE=DATE:20190922
DTEND;VALUE=DATE:20190923
DTSTAMP:20210401T135857
CREATED:20190922T145618Z
LAST-MODIFIED:20190922T145618Z
UID:175924-1569110400-1569196799@www.patriotguard.org
SUMMARY:Freedom Cruise
DESCRIPTION:HOTH Mission\nFreedom Cruise\n\nSparta\, Michigan – 09-22-19\n\n\n \n\nABOUT THE MISSION: \nThe Freedom Cruise ride has been canceled but the Fallen Soldier Honor ceremony for Chad Vollmer and the Vollmer family has been relocated to the Sparta High School Auditorium. Please come out and join us as we Honor Chad and his service and sacrifice to our Country. https://freedomcruisegr.com/\n\n\nPRIMARY STAGING DETAILS: 09-22-19 \nStaging Time: 12:00 pm\n \nSparta High School Auditorium\n475 West Sparta Dr.\nSparta\, Michigan 49345\nMap\n\n\nRide Captain: \nSherpa\n(616) 890-3864\n\n\nSpecial Instructions: \nBriefing: 12:30 PM\nFlag line: 1:00 PM Until start of ceremony at 2:00 PM\n\nFlags & Water:\nFlags will be provided\nLarge Bike Flags will NOT be needed.\nWater WILL NOT be provided\, please bring your own.\n\n\n\nSubmitted By: Alan Niemeyer \nPosition: Michigan State Captain \n\nNote: You do not have to own/ride a motorcycle or be a veteran to join\, and membership is Free. The only requirement is RESPECT! To subscribe to receive mission notices\, log into the National Site and click on the Members tab at the top. Select the Subscribe to PGR Missions option.\n Print This Page
URL:https://www.patriotguard.org/mission/freedom-cruise/
CATEGORIES:HOTH Mission
END:VEVENT
END:VCALENDAR