BEGIN:VCALENDAR
VERSION:2.0
PRODID:-//Patriot Guard Riders - ECPv5.6.0//NONSGML v1.0//EN
CALSCALE:GREGORIAN
METHOD:PUBLISH
X-WR-CALNAME:Patriot Guard Riders
X-ORIGINAL-URL:https://www.patriotguard.org
X-WR-CALDESC:Events for Patriot Guard Riders
BEGIN:VTIMEZONE
TZID:America/New_York
BEGIN:DAYLIGHT
TZOFFSETFROM:-0500
TZOFFSETTO:-0400
TZNAME:EDT
DTSTART:20160313T070000
END:DAYLIGHT
BEGIN:STANDARD
TZOFFSETFROM:-0400
TZOFFSETTO:-0500
TZNAME:EST
DTSTART:20161106T060000
END:STANDARD
END:VTIMEZONE
BEGIN:VEVENT
DTSTART;TZID=America/New_York:20160302T090000
DTEND;TZID=America/New_York:20160302T110000
DTSTAMP:20210513T220504
CREATED:20160302T140000Z
LAST-MODIFIED:20191201T152051Z
UID:413940-1456909200-1456916400@www.patriotguard.org
SUMMARY:Frederick W. Martinez\, USAF Veteran / Albuquerque
DESCRIPTION:Frederick W. Martinez\n\n\nUSAF– Korea \n3-2-2016\n\n\nThe Patriot Guard Riders have been invited by the family to honor a fallen veteran and brother.  Fred is survived by one daughter\, one son\, four grandchildren\, three great grandchildren\, two sisters\, and many beloved cousins\, nieces\, and nephews. \nFred was born in Martineztown  in 1934\, graduated Albuquerque High School in 1953\, and joined the U.S. Air Force in 1954. He served in the U.S. Air Force from 1954 – 1958 and in the U.S. Air Force Reserve from 1962 – 1964. Fred always said that joining the military was one of the best decisions of his life. Upon his honorable discharge\, he returned home and pursued a career with the U.S. Postal Service where he retired after 38 years of service.  \nMore info at: http://www.legacy.com/obituaries/abqjournal/obituary.aspx?pid=177879439  \n\n\n\n\nPRIMARY STAGING INFO – 3-2-2016\nLocation:\nSandia Valley Church of the Nazarene \n2315 Markham Rd SW  (between Coors & Beck just South of Raymac)\nABQ\, NM \nStaging Time:9:50 AM\nBriefing:\n10:10 AM\n\nFlag Line: 10:20 and after services 11:30 \nKSU: to leave around 11:45 for escort  \nEscort To:  \nSanta Fe National Cemetery\n501 N. Guadalupe St.     Santa Fe\, NM\nFor Honor Services  at  1:30pm  \nRCIC:  Alfredo Gomez – ASC – Gomez6801@gmail.com – 505-573-6801 \nRCIC: Mike Bellinger- ARC (in training) – 414-412-9686  \nARCIC & Cage Support: Dan Rambow  dan48041@yahoo.com  – 505-994-1060\n\n  Flags will be provided.\nLarge bike flags will NOT be needed.\n\nWeather: at times of service  46-78˚ Sunny in Albuquerque       68˚ Some Clouds and breezy\, in Santa Fe
URL:https://www.patriotguard.org/mission/frederick-w-martinez-usaf-veteran-albuquerque/
CATEGORIES:Archive
END:VEVENT
END:VCALENDAR