BEGIN:VCALENDAR
VERSION:2.0
PRODID:-//Patriot Guard Riders - ECPv5.6.0//NONSGML v1.0//EN
CALSCALE:GREGORIAN
METHOD:PUBLISH
X-WR-CALNAME:Patriot Guard Riders
X-ORIGINAL-URL:https://www.patriotguard.org
X-WR-CALDESC:Events for Patriot Guard Riders
BEGIN:VTIMEZONE
TZID:America/New_York
BEGIN:DAYLIGHT
TZOFFSETFROM:-0500
TZOFFSETTO:-0400
TZNAME:EDT
DTSTART:20160313T070000
END:DAYLIGHT
BEGIN:STANDARD
TZOFFSETFROM:-0400
TZOFFSETTO:-0500
TZNAME:EST
DTSTART:20161106T060000
END:STANDARD
END:VTIMEZONE
BEGIN:VEVENT
DTSTART;TZID=America/New_York:20160604T090000
DTEND;TZID=America/New_York:20160604T110000
DTSTAMP:20210513T181630
CREATED:20160604T130000Z
LAST-MODIFIED:20191201T145432Z
UID:411596-1465030800-1465038000@www.patriotguard.org
SUMMARY:Frederick Christian Mason
DESCRIPTION:CPL Frederick Christian Mason\, US Army \nThe Patriot Guard have been graciously invited by the family of CPL  Frederick Christian Mason\, US Army\, to Stand for him at his Memorial  Service. \nCPL Mason was a well known Norfolk artist and teacher.  CPL Mason passed  away suddenly on Sunday May 29th.  He served our country in the Army\,  stationed at bases in the south of Germany as a medical clerk/medic.   While in Germany he found his way around on an antique motorcycle he  called Refugee.   CPL Mason is survived by his wife Barbara\, his son and  daughter in law\, Step children and grandchildren. \nA Memorial Service will be held Saturday\, June 4th at 11:00 at\nNorfolk Chapel of H.D. Oliver Funeral Apartments\n1501 Colonial Avenue\nNorfolk\, VA 23517. \nMission Details: Those wishing to honor CPL Mason should Stage at 9:30 at H.D. Oliver Chapel on Colonial Avenue. \nBrief: 9:45 \nWe establish a Flag Line at 10:00 and Stand Tall with Honor as Family and Guests arrive at the Chapel. \nService at 11:00  We will maintain the flag line during the service. \nMission Duration approximately 2.5 – 3 hours. \nThere is no escort with this mission.  Please monitor the weather and dress and hydrate appropriately. \nRide Captain:\nD5ASC Wayne Anderson\nwanderson@virginiapatriotguard.org\n757-880-0000 \nCo Ride Captain:\nDave Bozak \nRiCE: Open to all candidates \nAny questions or comments should be directed to the listed Ride Captain \nSPECIAL NOTE: Safety is of our utmost priority. Every effort possible is  made in planning and executing the PGR MISSION Statement in a manner  that minimizes the inherit dangers of riding a motorcycle\, including  riding in groups of all sizes and any situation. While the PGR and its  riders have a remarkable safety record in the execution of our missions\,  infrequently members have been injured in unforeseen accidents. In an  effort to mitigate the risk of preventable accidents\, all attendees who  wish to ride in a Patriot Guard motorcycle escort or Honor Mission are  asked to attend the pre-mission briefing. It will include a safety  briefing and any unique ride information known to our Ride Captain(s)  that may be specific to the mission.  Member safety and well-being is  always a principal ongoing concern. Our Ride Captains are asked to stand  down from any mission that cannot be accomplished in relative safety or  unreasonable risk. This includes both rides and flag lines in inclement  weather and other conditions. It remains each individual PGR member’s  responsibility to ride within their own comfort zone and be cognizant of  their surroundings and skill limitations as well as any physical needs  or limitations. If the ride and/or mission conditions present challenges  beyond your skill\, comfort\, or needs\, you are expected to exercise good  judgment in foregoing any planned participation. \nRespectfully submitted\nWayne Anderson\, ASC\nBecca “Lady Harley” Landick\, SC\nJeff Chandle\, SC
URL:https://www.patriotguard.org/mission/frederick-christian-mason/
CATEGORIES:Archive
END:VEVENT
END:VCALENDAR