BEGIN:VCALENDAR
VERSION:2.0
PRODID:-//Patriot Guard Riders - ECPv5.3.2.1//NONSGML v1.0//EN
CALSCALE:GREGORIAN
METHOD:PUBLISH
X-WR-CALNAME:Patriot Guard Riders
X-ORIGINAL-URL:https://www.patriotguard.org
X-WR-CALDESC:Events for Patriot Guard Riders
BEGIN:VTIMEZONE
TZID:America/New_York
BEGIN:DAYLIGHT
TZOFFSETFROM:-0500
TZOFFSETTO:-0400
TZNAME:EDT
DTSTART:20190310T070000
END:DAYLIGHT
BEGIN:STANDARD
TZOFFSETFROM:-0400
TZOFFSETTO:-0500
TZNAME:EST
DTSTART:20191103T060000
END:STANDARD
END:VTIMEZONE
BEGIN:VEVENT
DTSTART;VALUE=DATE:20190927
DTEND;VALUE=DATE:20190928
DTSTAMP:20210401T105716
CREATED:20190927T140953Z
LAST-MODIFIED:20190927T140953Z
UID:176791-1569542400-1569628799@www.patriotguard.org
SUMMARY:Fred McKay
DESCRIPTION:Honor Mission\nFred McKay\, Veteran\nUSA – WWII\nMarietta\, Oklahoma – 09-27-19\n\n\n \n\nABOUT THE MISSION: \nThe family of Fred McKay USA WWII veteran has requested the Patriot Guard Riders to stand a flag line at his Funeral Service. We will accompany the Hero\, family and friends to Lakeview Cemetery for interment. The Chickasaw Honor Guard will conduct Military Honors.\n\n\nPRIMARY STAGING DETAILS: 09-27-19 \nStaging Time: 1:00 pm\n \nFlanagan-Watts Funeral Chapel\n100 E Main St.\nMarietta\, Oklahoma 73448\n\n\nRide Captain: \nMichael“Smitty”Smith\nhdsmitty73@gmail.com\n405-613-8352\n\n\nSpecial Instructions: \nMandatory Safety briefing: 1:15pm\nYou must attend briefing to accompany the hero\, family and friends to the Cemetery.\nFlag line: 1:30pm\nWeather:Temp Low 73 High 91 Partly cloudy\n\nFlags & Water:\nFlags will be provided\nIf you have large bike flags\, please bring them.\nWater will be provided.\n\n\n\nSubmitted By: Ronnie Smith \nPosition: Oklahoma Ride Captain \n\nNote: You do not have to own/ride a motorcycle or be a veteran to join\, and membership is Free. The only requirement is RESPECT! To subscribe to receive mission notices\, log into the National Site and click on the Members tab at the top. Select the Subscribe to PGR Missions option.\n Print This Page
URL:https://www.patriotguard.org/mission/fred-mckay/
CATEGORIES:Honor Mission
END:VEVENT
END:VCALENDAR