BEGIN:VCALENDAR
VERSION:2.0
PRODID:-//Patriot Guard Riders - ECPv5.3.2.1//NONSGML v1.0//EN
CALSCALE:GREGORIAN
METHOD:PUBLISH
X-WR-CALNAME:Patriot Guard Riders
X-ORIGINAL-URL:https://www.patriotguard.org
X-WR-CALDESC:Events for Patriot Guard Riders
BEGIN:VTIMEZONE
TZID:America/New_York
BEGIN:DAYLIGHT
TZOFFSETFROM:-0500
TZOFFSETTO:-0400
TZNAME:EDT
DTSTART:20190310T070000
END:DAYLIGHT
BEGIN:STANDARD
TZOFFSETFROM:-0400
TZOFFSETTO:-0500
TZNAME:EST
DTSTART:20191103T060000
END:STANDARD
END:VTIMEZONE
BEGIN:VEVENT
DTSTART;VALUE=DATE:20190806
DTEND;VALUE=DATE:20190807
DTSTAMP:20210402T192331
CREATED:20190805T160458Z
LAST-MODIFIED:20190805T160458Z
UID:169798-1565049600-1565135999@www.patriotguard.org
SUMMARY:Fred Marchant
DESCRIPTION:Honor Mission\nFred Marchant\, Veteran\nUSA – WWII\nSapulpa\, Oklahoma – 08-06-19\n\n\n\n\nABOUT THE MISSION: \nThe family of US Army WWII veteran SSG Fred Marchant have asked the PGR to stand a Flag Line and perform Military Honors at his Interment Service to be held at Green Hill Cemetery Mausoleum at 2:00 PM.\n\n\nPRIMARY STAGING DETAILS: 08-06-19 \nStaging Time: 1:30 p.m.\n \nGreen Hill Funeral Home\n400 E Teel Rd\nSapulpa\, Oklahoma 74066\n\n\nRide Captain: \nMike “Penni” Pennington\, wmp8843@cox.net\, 918-557-1030\n\n\nSpecial Instructions: \nBriefing: 1:35 PM\nFlag Line: 1:45 PM\nWeather: Forecast high of 91 and sunny\n\n\nFlags & Water:\nFlags will be provided\nLarge Bike Flags will NOT be needed.\nWater WILL NOT be provided\, please bring your own.\n\n\nSubmitted By: William Pennington \nPosition: Oklahoma Ride Captain \n\nNote: You do not have to own/ride a motorcycle or be a veteran to join\, and membership is Free. The only requirement is RESPECT! To subscribe to receive mission notices\, log into the National Site and click on the Members tab at the top. Select the Subscribe to PGR Missions option.\n Print This Page
URL:https://www.patriotguard.org/mission/fred-marchant/
CATEGORIES:Honor Mission
END:VEVENT
END:VCALENDAR