BEGIN:VCALENDAR
VERSION:2.0
PRODID:-//Patriot Guard Riders - ECPv5.3.2.1//NONSGML v1.0//EN
CALSCALE:GREGORIAN
METHOD:PUBLISH
X-WR-CALNAME:Patriot Guard Riders
X-ORIGINAL-URL:https://www.patriotguard.org
X-WR-CALDESC:Events for Patriot Guard Riders
BEGIN:VTIMEZONE
TZID:America/New_York
BEGIN:DAYLIGHT
TZOFFSETFROM:-0500
TZOFFSETTO:-0400
TZNAME:EDT
DTSTART:20170312T070000
END:DAYLIGHT
BEGIN:STANDARD
TZOFFSETFROM:-0400
TZOFFSETTO:-0500
TZNAME:EST
DTSTART:20171105T060000
END:STANDARD
END:VTIMEZONE
BEGIN:VEVENT
DTSTART;TZID=America/New_York:20170331T134500
DTEND;TZID=America/New_York:20170331T154500
DTSTAMP:20210406T021444
CREATED:20170331T174500Z
LAST-MODIFIED:20191201T033758Z
UID:337967-1490967900-1490975100@www.patriotguard.org
SUMMARY:Fred Leon "Sparky" Smith\, Jr.\, Veteran\, USN
DESCRIPTION:Mr. Fred Leon “Sparky” Smith Jr.\, Veteran \nUSN \nBolivia\, North Carolina – 31 Mar 2017\n\n[HR][/HR]\nABOUT THE MISSION: \nPatriots\, \nWe have been given the opportunity once again to stand for one who has stood for us\, Mr. Fred Leon “Sparky” Smith Jr.\, Navy\, Veteran. The family of Sparky Smith has allowed us to Honor him with our presence as he stands his last watch. \nObituary: http://obits.dignitymemorial.com/dig…161&FHID=10811 \nPRIMARY STAGING DETAILS: 31 Mar 2017 \n \nPrimary Staging Time: 1:45 P.M.\n\nWhite Funeral & Cremation Service Chapel\n603 Ocean Highway\, East\n\nBolivia\, North Carolina – 28422 \n\nhttps://goo.gl/maps/EPMiWm3SLw22\n\n \nRide Captain:\n\nFrank “Tinman” Schronce\n910-273-5464\ngc1man@aol.com\n\n \nSpecial Instructions:\n\nThis be a one part\, one day mission\, flag line only before the start of a memorial service at 3:00 PM\, at White Funeral & Cremation Service Chapel\, 603 Ocean Highway\, East\, Bolivia\, NC. We will establish a flag line before the memorial service\, at 3pm when the service starts we will stand down and quietly depart the area.\n\n \nFlags & Water:\n\nFlags Will Be Provided\n\nLarge Bike Flags will NOT be needed.\n\nWater will be provided.\n\n\nSubmitted By: Frank Schronce\nPosition: Ride Captain \n[HR][/HR]\nNote:\nYou do not have to own/ride a motorcycle or be a Veteran to join and membership is Free. The only requirement is RESPECT! To join\, simply go to Patriot Guard website and click on Register. Membership is Free. \nTo subscribe to receive mission notices\, log into the National Site and click on the Mission Tab at the top. Select Upcoming Missions by State. Scroll to the state(s) you would like to receive notices for and click on the green check mark. Detailed instructions are also located in the FAQs on the site by clicking on the Quick Links Tab and selecting FAQs.
URL:https://www.patriotguard.org/mission/fred-leon-sparky-smith-jr-veteran-usn/
END:VEVENT
END:VCALENDAR