BEGIN:VCALENDAR
VERSION:2.0
PRODID:-//Patriot Guard Riders - ECPv5.3.2.1//NONSGML v1.0//EN
CALSCALE:GREGORIAN
METHOD:PUBLISH
X-WR-CALNAME:Patriot Guard Riders
X-ORIGINAL-URL:https://www.patriotguard.org
X-WR-CALDESC:Events for Patriot Guard Riders
BEGIN:VTIMEZONE
TZID:America/New_York
BEGIN:DAYLIGHT
TZOFFSETFROM:-0500
TZOFFSETTO:-0400
TZNAME:EDT
DTSTART:20100314T070000
END:DAYLIGHT
BEGIN:STANDARD
TZOFFSETFROM:-0400
TZOFFSETTO:-0500
TZNAME:EST
DTSTART:20101107T060000
END:STANDARD
END:VTIMEZONE
BEGIN:VEVENT
DTSTART;TZID=America/New_York:20100830T090000
DTEND;TZID=America/New_York:20100830T110000
DTSTAMP:20210404T160127
CREATED:20100830T130000Z
LAST-MODIFIED:20191201T105157Z
UID:351011-1283158800-1283166000@www.patriotguard.org
SUMMARY:Fred Holliday
DESCRIPTION:CONFIRMED MISSION \nThe family of Mr Fred Holliday has requested the presence and participation of the Patriot Guard Riders in the interment of their loved one on Monday\, 30 Aug 10\, 1000\, at the Central Texas State Veterans Cemetery\, Killeen TX. \nDate: Monday\, 30 Aug 10 \nStaging Location: McDonalds restaurant\, 1601 East 6th Avenue\, Belton\, Tx 76513. http://tinyurl.com/ye6fybc \nStaging Time: 0730 \nBriefing: 0745 \nKSU: 0800 \nCemetery Staging:\nFor those members who are able to participate only in the cemetery portion\, staging will be at the cul-de-sac between the Memorial Shelter and the Walk of Heroes at CTSVC\, Killeen\, TX. Once we are cleared\, we will proceed to the shelter to set up and await the arrival of Mr Holliday. \nTime: 0900 \nBriefing: 0910 \nWX: 93F\, precipitation 30%\, wind SE at 9mph\, isolated t-storms \nNote: This is an escort mission with a flagline at the CTSVC only. \nArrive hydrated\, bring water\, and be prepared for summer weather. \nPlease let us join together to honor this Veteran who served so that we can enjoy a free America. \nRC: Ron “PACMan” Decker\, 254-526-8265\, 254-383-6281\, krdecker@embarqmail.com\nARC: Gerry “RocketMan” Lowrey\, 512-863-3193\, 512-818-3690\, g.lowrey@verizon.net\nCemetery RC: David “MarineMajor” Dunn\, 512-818-2531\, marine9678@aol.com
URL:https://www.patriotguard.org/mission/fred-holliday/
END:VEVENT
END:VCALENDAR