BEGIN:VCALENDAR
VERSION:2.0
PRODID:-//Patriot Guard Riders - ECPv5.3.2.1//NONSGML v1.0//EN
CALSCALE:GREGORIAN
METHOD:PUBLISH
X-WR-CALNAME:Patriot Guard Riders
X-ORIGINAL-URL:https://www.patriotguard.org
X-WR-CALDESC:Events for Patriot Guard Riders
BEGIN:VTIMEZONE
TZID:America/New_York
BEGIN:DAYLIGHT
TZOFFSETFROM:-0500
TZOFFSETTO:-0400
TZNAME:EDT
DTSTART:20170312T070000
END:DAYLIGHT
BEGIN:STANDARD
TZOFFSETFROM:-0400
TZOFFSETTO:-0500
TZNAME:EST
DTSTART:20171105T060000
END:STANDARD
END:VTIMEZONE
BEGIN:VEVENT
DTSTART;TZID=America/New_York:20170226T133000
DTEND;TZID=America/New_York:20170226T153000
DTSTAMP:20210403T051839
CREATED:20170226T183000Z
LAST-MODIFIED:20191201T034008Z
UID:339453-1488115800-1488123000@www.patriotguard.org
SUMMARY:Franklin Delbert Schaffer\, Veteran\, USMC - Korea
DESCRIPTION:Sgt Franklin Delbert Schaffer\, 89\, Veteran \nUSMC – Korea \nMULTI-CITY\, Ohio – 26 Feb 2017\n\n[HR][/HR]\nABOUT THE MISSION: \nObituary: http://tinyurl.com/znqydcq \nPRIMARY STAGING DETAILS: 26 Feb 2017 \n \nPrimary Staging Time: 1:30 P.M.\n\nVisitation:\nMarsh Funeral Home- Pemberville\n4094 State Route 105\n\nPemberville\, Ohio – 43450\n\nMap to Funeral Home/Church/Cemetery: https://goo.gl/maps/UcmQfRZgE9R2\n\n \n \nRide Captain:\n\nDistrict#1 Captain Frank Harris\nohiopgrsarge@hotmail.com\n\n \n \nSpecial Instructions:\n\nPlease follow The R/C’s instructions. Dress per the weather conditions. If we are experiencing inclement weather err on the side of caution. Use your own judgment on how you get safely to and from the mission. If you need to\ncontact Frank email him at: ohiopgrsarge@hotmail.com \n** Hypothermia is very serious\, Please\, layer your clothing. Some parts of the mission could be inside ** \n\n\n\n\nFlags & Water:\n\nFlags Will NOT Be Provided\, Please Bring Your Own.\n\nLarge Bike Flags will NOT be needed.\n\nWater WILL NOT be provided\, please bring your own.\n\n[HR][/HR]\nSTAGING #2 DETAILS: 27 Feb\, 2017 \n \nStaging #2 Time: 9:00 A.M.\n\nVisitation/Service:\nFaith United Methodist Church\n111 Main Street\n\nLuckey\, Ohio – 43443\n\nMap to Funeral Home/Church/Cemetery: https://goo.gl/maps/UcmQfRZgE9R2\n\n \n \nRide Captain:\n\nDistrict#1 Captain Frank Harris\nohiopgrsarge@hotmail.com\n\n \n \nSpecial Instructions:\n\n \n\nPlease follow The R/C’s instructions. Dress per the weather conditions. If we are experiencing inclement weather err on the side of caution. Use your own judgment on how you get safely to and from the mission. If you need to contact Frank email him at: ohiopgrsarge@hotmail.com \n\n\n** Hypothermia is very serious\, Please\, layer your clothing. Some parts of the mission could be inside ** \n\n\n\n\nFlags & Water:\n\nFlags Will NOT Be Provided\, Please Bring Your Own.\n\nLarge Bike Flags will be needed\n\nWater WILL NOT be provided\, please bring your own.\n\nSubmitted By: Robert Woods\nPosition: State Captain \n[HR][/HR]\nNote:\nYou do not have to own/ride a motorcycle or be a Veteran to join and membership is Free. The only requirement is RESPECT! To join\, simply go to Patriot Guard website and click on Register. Membership is Free. \nTo subscribe to receive mission notices\, log into the National Site and click on the Mission Tab at the top. Select Upcoming Missions by State. Scroll to the state(s) you would like to receive notices for and click on the green check mark. Detailed instructions are also located in the FAQs on the site by clicking on the Quick Links Tab and selecting FAQs.
URL:https://www.patriotguard.org/mission/franklin-delbert-schaffer-veteran-usmc-korea/
LOCATION:John Adrian Hopper
END:VEVENT
END:VCALENDAR