BEGIN:VCALENDAR
VERSION:2.0
PRODID:-//Patriot Guard Riders - ECPv5.3.2.1//NONSGML v1.0//EN
CALSCALE:GREGORIAN
METHOD:PUBLISH
X-WR-CALNAME:Patriot Guard Riders
X-ORIGINAL-URL:https://www.patriotguard.org
X-WR-CALDESC:Events for Patriot Guard Riders
BEGIN:VTIMEZONE
TZID:America/New_York
BEGIN:DAYLIGHT
TZOFFSETFROM:-0500
TZOFFSETTO:-0400
TZNAME:EDT
DTSTART:20210314T070000
END:DAYLIGHT
BEGIN:STANDARD
TZOFFSETFROM:-0400
TZOFFSETTO:-0500
TZNAME:EST
DTSTART:20211107T060000
END:STANDARD
END:VTIMEZONE
BEGIN:VEVENT
DTSTART;VALUE=DATE:20210403
DTEND;VALUE=DATE:20210404
DTSTAMP:20210401T153400
CREATED:20210329T220547Z
LAST-MODIFIED:20210329T220547Z
UID:573191-1617408000-1617494399@www.patriotguard.org
SUMMARY:Frank Worner
DESCRIPTION:Honor Mission\nFrank Worner\, Veteran\nUSAF –\nDewey\, Arizona – 04-03-21\n\n\n\nABOUT THE MISSION: \nFrank Worner proudly served our Country as an Aircraft Passenger Specialist in the US Air Force from 1974 until 1980 when he was discharged as a Senior Airman (E-4). During his service Frank’s unit received the Air Force Outstanding Unit Award. He recently passed at the age of 66. Surviving Frank are his wife and son.\n\nIt is our honor to stand in silent reverence as we show respect and gratitude to this hero for his sacrifices made for this nation.\n\n\nPRIMARY STAGING DETAILS: 04-03-21 \nStaging Time: 10:10  \nFaith Assembly of God\n549 S. Clearview Rd.\nDewey\, Arizona 86327\n\n\nRide Captain: \nMike Covell  408-679-3695  tnthd213@gmail.com\n\n\nSpecial Instructions: \nMap URL for staging: bit.ly/3dcY4zR\n\n10:30 AM – Briefing/Circle of Honor\n10:45 AM – Flag Line\n11:00 AM – Military Honors\n\nFlag Captain: Bill Musser\n\n\nFlags & Water:\nFlags will be provided\nLarge Bike Flags will NOT be needed.\nWater will be provided.\n\nSubmitted By: John Moffitt \nPosition: Arizona Assistant State Captain \n\nNote: You do not have to own/ride a motorcycle or be a veteran to join\, and membership is Free. The only requirement is RESPECT! To subscribe to receive mission notices\, log into the National Site and click on the Members tab at the top. Select the Subscribe to PGR Missions option.\n Print This Page
URL:https://www.patriotguard.org/mission/frank-worner/
CATEGORIES:Honor Mission
END:VEVENT
END:VCALENDAR