BEGIN:VCALENDAR
VERSION:2.0
PRODID:-//Patriot Guard Riders - ECPv5.6.0//NONSGML v1.0//EN
CALSCALE:GREGORIAN
METHOD:PUBLISH
X-WR-CALNAME:Patriot Guard Riders
X-ORIGINAL-URL:https://www.patriotguard.org
X-WR-CALDESC:Events for Patriot Guard Riders
BEGIN:VTIMEZONE
TZID:America/New_York
BEGIN:DAYLIGHT
TZOFFSETFROM:-0500
TZOFFSETTO:-0400
TZNAME:EDT
DTSTART:20160313T070000
END:DAYLIGHT
BEGIN:STANDARD
TZOFFSETFROM:-0400
TZOFFSETTO:-0500
TZNAME:EST
DTSTART:20161106T060000
END:STANDARD
END:VTIMEZONE
BEGIN:VEVENT
DTSTART;TZID=America/New_York:20160819T090000
DTEND;TZID=America/New_York:20160819T110000
DTSTAMP:20210512T021711
CREATED:20160819T130000Z
LAST-MODIFIED:20191201T143454Z
UID:409799-1471597200-1471604400@www.patriotguard.org
SUMMARY:Frank Skyles
DESCRIPTION:Frank Skyles\nUS Army\nSt. James\, MO\nFriday\, 19 August 2016\n\n\n\nThe Patriot Guard Riders have been honored with a request from the family of Frank Earl Skyles to escort their loved one to his final resting place. \nFrank served his country with honor and distinction in the United States Army. \nThe PGR will stage at:\nJones Funeral Home\n200 S. Meramec Street\nSt. James\, MO on Friday 19 August 2016 at 1:00pm. \nFollowing a briefing we will depart the funeral home at 1:30pm and escort our hero to Wishon Cemetery where he will be laid to rest with full military honors. \nThe weather forecast for 19 August 2016 call for a high temperature of 81 degrees with 89% humidity and a 30% chance of precipitation.\nPlease\, HYDRATE\, HYDRATE\,  HYDRATE. \nRide Captain in Charge (RCIC): \nMark Williams\nSenior Ride Captain\n573-465-2204
URL:https://www.patriotguard.org/mission/frank-skyles/
CATEGORIES:Archive
END:VEVENT
END:VCALENDAR