BEGIN:VCALENDAR
VERSION:2.0
PRODID:-//Patriot Guard Riders - ECPv5.6.0//NONSGML v1.0//EN
CALSCALE:GREGORIAN
METHOD:PUBLISH
X-WR-CALNAME:Patriot Guard Riders
X-ORIGINAL-URL:https://www.patriotguard.org
X-WR-CALDESC:Events for Patriot Guard Riders
BEGIN:VTIMEZONE
TZID:America/New_York
BEGIN:DAYLIGHT
TZOFFSETFROM:-0500
TZOFFSETTO:-0400
TZNAME:EDT
DTSTART:20160313T070000
END:DAYLIGHT
BEGIN:STANDARD
TZOFFSETFROM:-0400
TZOFFSETTO:-0500
TZNAME:EST
DTSTART:20161106T060000
END:STANDARD
END:VTIMEZONE
BEGIN:VEVENT
DTSTART;TZID=America/New_York:20160716T090000
DTEND;TZID=America/New_York:20160716T110000
DTSTAMP:20210512T164143
CREATED:20160716T130000Z
LAST-MODIFIED:20191201T144511Z
UID:410751-1468659600-1468666800@www.patriotguard.org
SUMMARY:Frank S. Perkowski\, USMM
DESCRIPTION:The family of Merchant Marine World War II Veteran Frank S. Perkowski has requested the Patriot Guard Riders stand to honor his service to his country at his interment ceremony Saturday\, July 16th. \nDuring World War 2\, the Merchant Marine transported war supplies and troops around the world.Though considered civilian volunteers\, the Merchant Marine sustained casualties in proportional numbers to the other military branches. In 1988\, Merchant Marines who served during World War II were finally recognized as veterans of the United States Coast Guard. \nFrank served in the Merchant Marines for 15 years.  Frank Perkowski is a patriot who served his country with honor. Now it’s our turn to stand to honor him. \nESCORT TO CEMETERY:  16 JULY 2016. Stage 1100 HRS\, KSU approx 1130 HRS\nFormer Tri-State Mall parking lot\n333 Naamans Road\nClaymont\, DE 19703\nMap:  https://goo.gl/maps/AREUSs23TpA2 \nEscort to cemetery just across PA state line: approximately 10 minutes. \n\nINTERMENT CEREMONY:  16 JULY 2016\, 1200 HRS \nLawn Croft Cemetery\n1000 W. Ridge Road\nLinwood\, PA   19061\nMap: https://goo.gl/maps/z6sZzwXhsuE2 \nRCIC:  Dale McGinnis\, RC-Region 8\nEmail:  pgrpa.vetrep.east@gmail.com\nPhone:  [URL=”tel:717-887-4679″]717-887-4679[/URL]
URL:https://www.patriotguard.org/mission/frank-s-perkowski-usmm/
CATEGORIES:Archive
END:VEVENT
END:VCALENDAR