BEGIN:VCALENDAR
VERSION:2.0
PRODID:-//Patriot Guard Riders - ECPv5.6.0//NONSGML v1.0//EN
CALSCALE:GREGORIAN
METHOD:PUBLISH
X-WR-CALNAME:Patriot Guard Riders
X-ORIGINAL-URL:https://www.patriotguard.org
X-WR-CALDESC:Events for Patriot Guard Riders
BEGIN:VTIMEZONE
TZID:America/New_York
BEGIN:DAYLIGHT
TZOFFSETFROM:-0500
TZOFFSETTO:-0400
TZNAME:EDT
DTSTART:20160313T070000
END:DAYLIGHT
BEGIN:STANDARD
TZOFFSETFROM:-0400
TZOFFSETTO:-0500
TZNAME:EST
DTSTART:20161106T060000
END:STANDARD
END:VTIMEZONE
BEGIN:VEVENT
DTSTART;TZID=America/New_York:20160811T090000
DTEND;TZID=America/New_York:20160811T110000
DTSTAMP:20210511T210114
CREATED:20160811T130000Z
LAST-MODIFIED:20191201T143718Z
UID:410026-1470906000-1470913200@www.patriotguard.org
SUMMARY:Frank Nickerson\, USA
DESCRIPTION:The Patriot Guard Riders have been invited by the family of Frank Nickerson to stand in honor of this hero at his services on Thursday\, August 11\, 2016\, and to provide escort to his final resting place. \nMr. Nickerson served with distinction in the Pacific during WW II and was the recipient of a Purple Heart and Bronze Star.   \nThursday\, 11Aug 2016: \nStaging – 1000 hrs. at:\n            Floral Hills Funeral Home\n            7000 Blue Ridge Blvd.\n            Kansas City\, MO  64133 \nRide Meeting – 1015 hrs. \nEscort leaving at approximately 1045 hrs. to:\n\n         Missouri Veterans Cemetery            20109 Missouri Business Hwy 13\,Higginsville\, MO  64037 \nGraveside Service and Military Honors – 1200 hrs. \nThe escort will be approximately 50 miles at Interstate Highway Speed\, up to 70 MPH.  Anyone flying a large flag MUST have an EXTREMELY SECURE flag mount that has been tested at highway speeds. \n  Ride Captain\nRandy “Pops” Vogel\n816-686-2445
URL:https://www.patriotguard.org/mission/frank-nickerson-usa/
CATEGORIES:Archive
END:VEVENT
END:VCALENDAR