BEGIN:VCALENDAR
VERSION:2.0
PRODID:-//Patriot Guard Riders - ECPv5.3.2.1//NONSGML v1.0//EN
CALSCALE:GREGORIAN
METHOD:PUBLISH
X-WR-CALNAME:Patriot Guard Riders
X-ORIGINAL-URL:https://www.patriotguard.org
X-WR-CALDESC:Events for Patriot Guard Riders
BEGIN:VTIMEZONE
TZID:America/New_York
BEGIN:DAYLIGHT
TZOFFSETFROM:-0500
TZOFFSETTO:-0400
TZNAME:EDT
DTSTART:20190310T070000
END:DAYLIGHT
BEGIN:STANDARD
TZOFFSETFROM:-0400
TZOFFSETTO:-0500
TZNAME:EST
DTSTART:20191103T060000
END:STANDARD
END:VTIMEZONE
BEGIN:VEVENT
DTSTART;VALUE=DATE:20190530
DTEND;VALUE=DATE:20190531
DTSTAMP:20210405T131100
CREATED:20190528T184831Z
LAST-MODIFIED:20190528T184831Z
UID:162353-1559174400-1559260799@www.patriotguard.org
SUMMARY:Frank McNeil
DESCRIPTION:Honor Mission\nFrank McNeil\, Retired\nUSA \, USAR – Vietnam\nMaple Valley\, Washington – 05-30-19\n\n\n\n\nABOUT THE MISSION: \nLadies and Gentlemen of the Patriot Guard Riders\,\nWe have been invited to attend the final Military Honors of SSG Frank McNeil\, U.S. Army\, retired. SSG McNeil joined the Army 5 Nov\, 1957 and served for 6 years\, including 3 and a half years in Europe. SSG McNeil retired from the regular army and moved over to the U.S. Army Reserves where he served honorably for another 15 years. In that time he spent two tours in Vietnam\, earning the following awards and medals:  Marksman (Rifle & Carbine)\, National Defense Service Medal with Oak Leaf Cluster\, 2 Over Seas Bars\, Good Conduct Medal (4th Award)\, Vietnam Service Medal\, Army Commendation Medal\, and the Vietnam Campaign Medal.\nFrank actually passed away on his 89th birthday. He is survived by his 5 children\, a brother and sister\, and numerous grandchildren.\nIn his civilian life Frank worked at Atlas Foundry and Machine\, retiring after 25 years. Frank enjoyed working in his garden and spending his time with his large family.\n\n\nPRIMARY STAGING DETAILS: 05-30-19 \nStaging Time: 1115 hrs\n \nMcDonald’s\n23225 Maple Valley Black Diamond Hwy\nMaple Valley\, Washington 98038\n\n\nRide Captain: \nMother Hen\npgrmotherhen@gmail.com\n206-369-14342\n\n\nSpecial Instructions: \nSchedule:\n1115 hrs  – Riders arrive\, sign in\n1145 hrs – Mission Brief\n1200 hrs – KSU\n1215 hrs – Flag Line in Place\n1230 hrs – ceremony begins\n1300 hrs – or end of ceremony\, fade away\, debrief\nAssisted by: Ride Cpt: Lyall “Joker” Smith\, lyalls@aol.com\, 360-791-4639\nSupport Vehicle: Ron Jellum\, ltrsz28@hotmail.com\, 206-669-8662\n\n\nFlags & Water:\nFlags will be provided\nLarge Bike Flags will NOT be needed.\nWater will be provided.\n\n\n\nSubmitted By: Sabrina Brown \nPosition: Washington State Captain \n\nNote: You do not have to own/ride a motorcycle or be a veteran to join\, and membership is Free. The only requirement is RESPECT! To subscribe to receive mission notices\, log into the National Site and click on the Members tab at the top. Select the Subscribe to PGR Missions option.\n Print This Page
URL:https://www.patriotguard.org/mission/frank-mcneil/
CATEGORIES:Honor Mission
END:VEVENT
END:VCALENDAR