BEGIN:VCALENDAR
VERSION:2.0
PRODID:-//Patriot Guard Riders - ECPv5.6.0//NONSGML v1.0//EN
CALSCALE:GREGORIAN
METHOD:PUBLISH
X-WR-CALNAME:Patriot Guard Riders
X-ORIGINAL-URL:https://www.patriotguard.org
X-WR-CALDESC:Events for Patriot Guard Riders
BEGIN:VTIMEZONE
TZID:America/New_York
BEGIN:DAYLIGHT
TZOFFSETFROM:-0500
TZOFFSETTO:-0400
TZNAME:EDT
DTSTART:20160313T070000
END:DAYLIGHT
BEGIN:STANDARD
TZOFFSETFROM:-0400
TZOFFSETTO:-0500
TZNAME:EST
DTSTART:20161106T060000
END:STANDARD
END:VTIMEZONE
BEGIN:VEVENT
DTSTART;TZID=America/New_York:20160802T090000
DTEND;TZID=America/New_York:20160802T110000
DTSTAMP:20210511T193018
CREATED:20160802T130000Z
LAST-MODIFIED:20191201T143931Z
UID:410230-1470128400-1470135600@www.patriotguard.org
SUMMARY:Frank M. Panzeca\, 83
DESCRIPTION:Cpl Frank M.             Panzeca\, 83\n\n\n\nWest Chester\,             Ohio\n[ATTACH=CONFIG]4980[/ATTACH]\n\n\nUnited States             Army\n\n\nCold War             Veteran\n\n\n\nVisitation\nHodapp Funeral Home\n8815 Cincinnati-Columbus Rd\nWest Chester\, OH 45069 \nVisitation:  2 Aug 2016 @ 1000 hrs. – 1200         (10AM –         12PM)\nStaging:               2 Aug               2016 @ 0900 hrs. (09:00 AM) \nInterment: \nImmediately following the visitation \nSt. Joseph New Cemetery\n4500 Foley Rd\nCincinnati\, OH 45238 \nDistrict 7 Captain Garry  Mizer will be         assigned this mission         of Honor and  Respect.  Please         follow his instructions. \nRemember your 3’x5′ American flags. \nDress for the weather and         stand with your         knees at a slight bend. \nIf         you need to         contact Garry\, you can email him at garryemizer@gmail.com           \n\n\n“Rest in Peace Cpl           Panzeca”\n\n\n [ATTACH=CONFIG]4981[/ATTACH]
URL:https://www.patriotguard.org/mission/frank-m-panzeca-83/
CATEGORIES:Archive
END:VEVENT
END:VCALENDAR