BEGIN:VCALENDAR
VERSION:2.0
PRODID:-//Patriot Guard Riders - ECPv5.6.0//NONSGML v1.0//EN
CALSCALE:GREGORIAN
METHOD:PUBLISH
X-WR-CALNAME:Patriot Guard Riders
X-ORIGINAL-URL:https://www.patriotguard.org
X-WR-CALDESC:Events for Patriot Guard Riders
BEGIN:VTIMEZONE
TZID:America/New_York
BEGIN:DAYLIGHT
TZOFFSETFROM:-0500
TZOFFSETTO:-0400
TZNAME:EDT
DTSTART:20160313T070000
END:DAYLIGHT
BEGIN:STANDARD
TZOFFSETFROM:-0400
TZOFFSETTO:-0500
TZNAME:EST
DTSTART:20161106T060000
END:STANDARD
END:VTIMEZONE
BEGIN:VEVENT
DTSTART;TZID=America/New_York:20160606T090000
DTEND;TZID=America/New_York:20160606T110000
DTSTAMP:20210513T170318
CREATED:20160606T130000Z
LAST-MODIFIED:20191201T145423Z
UID:411584-1465203600-1465210800@www.patriotguard.org
SUMMARY:Frank M. Goad\, USA
DESCRIPTION:The family of Frank  M. Goad has  respectfully requested the Patriot Guard Riders assist with the Memorial Service  of their loved one by Standing a Tall and Silent Flag Line of Honor and  Respect. \nMr. Goad served his country with Honor in the  United States Army from January 1967 to January 1973\, achieving the rank of  SP-5.  He served in Vietnam and was  awarded the Vietnam Campaign Medal\,  Vietnam Service Medal with four Overseas Service Bars and the National Defense  Service Medal.  He was an active  member of the O’Fallon VFW Post #5077.\n\nMr. Goad is  survived by his wife\, Nancy\, three sons\,  and eight grandchildren.\n\nObituary Link:   http://www.baue.com/obit/frank-m-goad-jr/ \n\nStage:\nMonday\, June 6\, 9:15 A.M.\nAssumption Catholic  Church\n430 N. Main  Street\nO’Fallon\,  MO \nFlag Line:    9:30 – 10:30 \nService:       10:30 \nEscort:\nJefferson Barracks National Cemetery.  Appointment time:  1:00 \nRide Captain:\nRon “Pete”  Peterson\nron.peterson@charter.net\n636.443.9643 \nWeather projected to be 59-88* and mostly sunny.  HYDRATE  HYDRATE   HYDRATE​
URL:https://www.patriotguard.org/mission/frank-m-goad-usa/
CATEGORIES:Archive
END:VEVENT
END:VCALENDAR