BEGIN:VCALENDAR
VERSION:2.0
PRODID:-//Patriot Guard Riders - ECPv5.3.2.1//NONSGML v1.0//EN
CALSCALE:GREGORIAN
METHOD:PUBLISH
X-WR-CALNAME:Patriot Guard Riders
X-ORIGINAL-URL:https://www.patriotguard.org
X-WR-CALDESC:Events for Patriot Guard Riders
BEGIN:VTIMEZONE
TZID:America/New_York
BEGIN:DAYLIGHT
TZOFFSETFROM:-0500
TZOFFSETTO:-0400
TZNAME:EDT
DTSTART:20190310T070000
END:DAYLIGHT
BEGIN:STANDARD
TZOFFSETFROM:-0400
TZOFFSETTO:-0500
TZNAME:EST
DTSTART:20191103T060000
END:STANDARD
END:VTIMEZONE
BEGIN:VEVENT
DTSTART;VALUE=DATE:20190612
DTEND;VALUE=DATE:20190613
DTSTAMP:20210405T044117
CREATED:20190610T155204Z
LAST-MODIFIED:20190610T155204Z
UID:164260-1560297600-1560383999@www.patriotguard.org
SUMMARY:Frank Ivan Reed
DESCRIPTION:Honor Mission\nFrank Ivan Reed\, Veteran\nUSAF\nDallas\, Texas – 06-12-19\n\n\n\nABOUT THE MISSION: \nFrank Ivan Reed served for four years during the Korean War era\, From August 1951 until August 1953 as an aircraft maintenance specialist. He attained the rank of Airman 2nd Class and received the National Defense Service Medal.\n\n\nPRIMARY STAGING DETAILS: 06-12-19 \nStaging Time: 12:15 pm\n \nDFW National Cemetery\n2000 Mountain Creek Pkwy\nDallas\, Texas 75211\n\n\nRide Captain: \nKen Hammock\nken2003hdrk@gmail.com\n(918) 289-4749\n\n\nSpecial Instructions: \nStaging Time: 12:15 pm\nBriefing Time: 12:30 pm\nIn Position/KSU Time: 12:45 pm\nStarting Time: 1:00 pm\nThe PGR will stage at the visitor center for a briefing. Honor bikes will be selected. Remaining PGR will proceed to the shelter to set flags and await arrival of our veteran and his family and friends. At the conclusion of the service\, flags will be stowed and riders debriefed and dismissed. PGR will serve as pallbearers.\n\n\nFlags & Water:\nFlags will be provided\nLarge Bike Flags will NOT be needed.\nWater will be provided.\n\n\nSubmitted By: Dan Mathys \nPosition: Texas Ride Captain \n\nNote: You do not have to own/ride a motorcycle or be a veteran to join\, and membership is Free. The only requirement is RESPECT! To subscribe to receive mission notices\, log into the National Site and click on the Members tab at the top. Select the Subscribe to PGR Missions option.\n Print This Page
URL:https://www.patriotguard.org/mission/frank-ivan-reed/
CATEGORIES:Honor Mission
END:VEVENT
END:VCALENDAR