BEGIN:VCALENDAR
VERSION:2.0
PRODID:-//Patriot Guard Riders - ECPv5.3.2.1//NONSGML v1.0//EN
CALSCALE:GREGORIAN
METHOD:PUBLISH
X-WR-CALNAME:Patriot Guard Riders
X-ORIGINAL-URL:https://www.patriotguard.org
X-WR-CALDESC:Events for Patriot Guard Riders
BEGIN:VTIMEZONE
TZID:America/New_York
BEGIN:DAYLIGHT
TZOFFSETFROM:-0500
TZOFFSETTO:-0400
TZNAME:EDT
DTSTART:20190310T070000
END:DAYLIGHT
BEGIN:STANDARD
TZOFFSETFROM:-0400
TZOFFSETTO:-0500
TZNAME:EST
DTSTART:20191103T060000
END:STANDARD
END:VTIMEZONE
BEGIN:VEVENT
DTSTART;VALUE=DATE:20190702
DTEND;VALUE=DATE:20190703
DTSTAMP:20210404T050034
CREATED:20190626T170231Z
LAST-MODIFIED:20190626T170231Z
UID:165926-1562025600-1562111999@www.patriotguard.org
SUMMARY:Frank Henry Newsome II
DESCRIPTION:Honor Mission\nFrank Henry Newsome II\, Veteran\nUSA – Vietnam\nMULTI-CITY\, Georgia – 07-02-19\n\n\n\n\nABOUT THE MISSION: \nThis is Part 2 of this Mission:\nFrank Newsome II served his Country in the U.S. Army from 1966 until 1969 serving in Vietnam\, attaining the rank of Corporal. Per his DD214\, he was received the following awards and decorations National Defense Service Ribbon\, Vietnam Service Ribbon with two Bronze Stars\, Vietnam Campaign Medal with Device\, CIB and the Parachutist Badge. After his military service\, Frank worked for the US Postal Service driving tractor trailers for ten years until a major accident caused him to be disabled.\n\n\n\nPRIMARY STAGING DETAILS: 07-02-19\nStaging Time: 12:00 pm \n2380 Reynolds Rd\nAtlanta\, Georgia 30331\n\n\nRide Captain: \nSid ‘Squirrel’ Kelly\n404-273-7127\nsidkelly423@gmail.com\n\n\nSpecial Instructions: \nAfter a safety briefing we will line up for a paid professional escort to Ga National Cemetery\, Canton with kick stands up at approx. 12:30 pm. Service is scheduled at Ga National Cemetery for 2:00 pm.\n\n\nFlags & Water:\n\nFlags will be provided\nIf you have large bike flags\, please bring them.\nWater will be provided.\n\nSTAGING #2 DETAILS: 07-02-19 \nStaging Time: 13:30 pm \nGeorgia National Cemetery\n1080 Scott Hudgens Drive\nCanton\, Georgia 30114\n\n\nRide Captain: \nSid ‘Squirrel’ Kelly\n404-273-7127sidkelly\n423@gmail.com\n\nReuben ‘Tailgunner’ Baumgardner\n770 324-5052\nbaumgardner2000@yahoo.com\n\n\nSpecial Instructions: \nThose going directly to GNC\, please assemble at the POW flag pole at 1:30 pm for briefing by Reuben ‘Tailgunner’ Baumgardner and then be dispersed to the appropriate shelter for the services\n\n\nFlags & Water:\n\nFlags will be provided\nLarge Bike Flags will NOT be needed.\nWater will be provided.\n\n\n\nSubmitted By: Sidney Kelly \nPosition: Georgia Ride Captain \n\nNote: You do not have to own/ride a motorcycle or be a veteran to join\, and membership is Free. The only requirement is RESPECT! To subscribe to receive mission notices\, log into the National Site and click on the Members tab at the top. Select the Subscribe to PGR Missions option.\n Print This Page
URL:https://www.patriotguard.org/mission/frank-henry-newsome-ii/
CATEGORIES:Honor Mission
END:VEVENT
END:VCALENDAR