BEGIN:VCALENDAR
VERSION:2.0
PRODID:-//Patriot Guard Riders - ECPv5.3.2.1//NONSGML v1.0//EN
CALSCALE:GREGORIAN
METHOD:PUBLISH
X-WR-CALNAME:Patriot Guard Riders
X-ORIGINAL-URL:https://www.patriotguard.org
X-WR-CALDESC:Events for Patriot Guard Riders
BEGIN:VTIMEZONE
TZID:America/New_York
BEGIN:DAYLIGHT
TZOFFSETFROM:-0500
TZOFFSETTO:-0400
TZNAME:EDT
DTSTART:20190310T070000
END:DAYLIGHT
BEGIN:STANDARD
TZOFFSETFROM:-0400
TZOFFSETTO:-0500
TZNAME:EST
DTSTART:20191103T060000
END:STANDARD
END:VTIMEZONE
BEGIN:VEVENT
DTSTART;VALUE=DATE:20190703
DTEND;VALUE=DATE:20190704
DTSTAMP:20210403T204615
CREATED:20190701T232601Z
LAST-MODIFIED:20190702T104603Z
UID:166420-1562112000-1562198399@www.patriotguard.org
SUMMARY:Frank Giard Norman
DESCRIPTION:  \n\nHonor Mission\nFrank Girard Norman\nUSA\, USCG – WWII\nLakeland\, Florida  07-03-19\n\n\n \n\nABOUT THE MISSION: \nThe family of Frank Girard Norman has requested the Patriot Guard Riders’ presence as they show their final respects and lay their loved one to rest. Frank faithfully served his country in the U.S. Army and U.S. Coast Guard and received an Honorable Discharge from both. Frank rode a motorcycle in France for Intel in 1945\, and was in Japan during the surrender of WW II.\nPlease bring your 3 X 5 American fags and stand in honor and respect for this hero and his family.\n\n\nPRIMARY STAGING DETAILS: 07-03-19 \nStaging Time: 10:45 am  \nOak Hill Burial Park\n4620 US Hwy 98 S\nLakeland\, Florida 33812\n          Map\n\n\nRide Captain: \nBernie “Dutchman” Conner\nbc17004@aol.com\n407-415-6162\n\n\nSpecial Instructions: \nPlease hydrate.\n Obituary\n\n11:00 am – Brief\n11:30 am – Scheduled Service\nFlag Line as directed by the RC\n\n\nFlags & Water:\nFlags will not be provided.\nLarge Bike Flags will NOT be needed.\nWater WILL NOT be provided\, please bring your own.\n  \n\n\nSubmitted By: Bernie Conner \nPosition: Florida Assistant State Captain \n\nNote: You do not have to own/ride a motorcycle or be a veteran to join\, and membership is Free. The only requirement is RESPECT! To subscribe to receive mission notices\, log into the National Site and click on the Members tab at the top. Select the Subscribe to PGR Missions option.\n Print This Page
URL:https://www.patriotguard.org/mission/frank-giard-norman/
CATEGORIES:Honor Mission
END:VEVENT
END:VCALENDAR