BEGIN:VCALENDAR
VERSION:2.0
PRODID:-//Patriot Guard Riders - ECPv5.6.0//NONSGML v1.0//EN
CALSCALE:GREGORIAN
METHOD:PUBLISH
X-WR-CALNAME:Patriot Guard Riders
X-ORIGINAL-URL:https://www.patriotguard.org
X-WR-CALDESC:Events for Patriot Guard Riders
BEGIN:VTIMEZONE
TZID:America/New_York
BEGIN:DAYLIGHT
TZOFFSETFROM:-0500
TZOFFSETTO:-0400
TZNAME:EDT
DTSTART:20210314T070000
END:DAYLIGHT
BEGIN:STANDARD
TZOFFSETFROM:-0400
TZOFFSETTO:-0500
TZNAME:EST
DTSTART:20211107T060000
END:STANDARD
END:VTIMEZONE
BEGIN:VEVENT
DTSTART;VALUE=DATE:20210511
DTEND;VALUE=DATE:20210512
DTSTAMP:20210513T034057
CREATED:20210511T115303Z
LAST-MODIFIED:20210511T115551Z
UID:576998-1620691200-1620777599@www.patriotguard.org
SUMMARY:Frank Galvan
DESCRIPTION:Honor Mission\nFrank Galvan\, Veteran\nUSN – LEO\, Vietnam\nSan Antonio\, Texas – 05-11-21\n\n\n\nABOUT THE MISSION: \nAt seventeen\, Frank Galvan signed up for the United States Navy. He served from 12/22/1964 to 06/07/1968 and was deployed to Vietnam. After four years in the Navy\, he married his Navy buddy’s sister\, Susan. Frank and Susan were married on May 17th\, 1969 and moved from Los Angeles to Montana\, where they lived for a year and had their first son. They moved back to Los Angeles and Frank joined the Los Angeles Police Department.  After thirty years of police work and four more children\, he retired and worked for The Department of Justice of California.\n\n\nPRIMARY STAGING DETAILS: 05-11-21 \nStaging: 8:30 AM\n \nFuneraria Del Roy Akers\n515 N Main Ave\nSan Antonio\, Texas 78205\n\n\nRide Captain: \nKurt “Goose” Goslink\ng69z28@yahoo.com\n\n\nSpecial Instructions: \nStaging: 8:30 AM\nBriefing: 8:45 AM\nKSU: 9:15 AM\nService: 9:45 AM\, St. Ann’s Catholic Church\, 210 Saint Ann San Antonio\, TX 78201.\nKSU: 10:45 AM\nInterment: 11:15 AM\, Fort Sam Houston National Cemetery\, 1520 Harry Wurzbach Rd San Antonio\, TX 78209.\nFace coverings must be worn at the funeral home\, church\, and cemetery.\n\n\nFlags & Water:\nFlags will be provided\nIf you have large bike flags\, please bring them.\nWater will be provided.\n\nSubmitted By: Lisa Menard \nPosition: National Store Manager \n\nNote: You do not have to own/ride a motorcycle or be a veteran to join\, and membership is Free. The only requirement is RESPECT! To subscribe to receive mission notices\, log into the National Site and click on the Members tab at the top. Select the Subscribe to PGR Missions option.\n Print This Page
URL:https://www.patriotguard.org/mission/frank-galvan/
CATEGORIES:Honor Mission
END:VEVENT
END:VCALENDAR