BEGIN:VCALENDAR
VERSION:2.0
PRODID:-//Patriot Guard Riders - ECPv5.3.2.1//NONSGML v1.0//EN
CALSCALE:GREGORIAN
METHOD:PUBLISH
X-WR-CALNAME:Patriot Guard Riders
X-ORIGINAL-URL:https://www.patriotguard.org
X-WR-CALDESC:Events for Patriot Guard Riders
BEGIN:VTIMEZONE
TZID:America/New_York
BEGIN:DAYLIGHT
TZOFFSETFROM:-0500
TZOFFSETTO:-0400
TZNAME:EDT
DTSTART:20190310T070000
END:DAYLIGHT
BEGIN:STANDARD
TZOFFSETFROM:-0400
TZOFFSETTO:-0500
TZNAME:EST
DTSTART:20191103T060000
END:STANDARD
END:VTIMEZONE
BEGIN:VEVENT
DTSTART;VALUE=DATE:20190715
DTEND;VALUE=DATE:20190716
DTSTAMP:20210404T061732
CREATED:20190712T231615Z
LAST-MODIFIED:20190712T231615Z
UID:167410-1563148800-1563235199@www.patriotguard.org
SUMMARY:Frank C. Arzola
DESCRIPTION:Honor Mission\nFrank C. Arzola\, Veteran\nUSAF \, USAFR\nSan Antonio\, Texas – 07-15-19\n\n\n \n\nABOUT THE MISSION: \nThe family of Mr. Frank C. Arzola\, a US Air Force Veteran\, requests the presence and participation of the Patriot Guard Riders at the funeral service\, LEO supported procession\, and graveside rendering of military honors of their loved one. Mr.Arzola proudly served in the United Sates Air Force and was honorably discharged January 17\, 1961. He then re-enlisted that same year in the Air Force Reserves 433rd Tactical Airlift Wing and was honorably discharged with the rank of Technical Sergeant on May 5\, 1982\n\n\nPRIMARY STAGING DETAILS: 07-15-19 \nStaging Time: 10:45 am\n \nPalm Heights Mortuary\n3711 South Zarzamora St\nSan Antonio\, Texas 78225\nMap\n\n\nRide Captain: \nJuan “Mr. T” Tarango\njuantarango16@yahoo.com\n\n\nSpecial Instructions: \nBriefing: 11:00 AM\nHonor Line: 11:15 AM\nService: 12:00 AM\nImmaculate Conception Catholic Church\n314 Merida St\nSan Antonio\, TX 78207\nMap\nKSU: 01:00 PM\nInterment: 02:00 PM\nFort Sam Houston National Cemetery\n1520 Harry Wurzbach Rd\nSan Antonio\, TX 78209\nMap\nFlags: Don “Chappie” Ingram\n\nFlags & Water:\nFlags will be provided\nIf you have large bike flags\, please bring them.\nWater will be provided.\n\n\n\nSubmitted By: Lisa Menard \nPosition: Texas Ride Captain \n\nNote: You do not have to own/ride a motorcycle or be a veteran to join\, and membership is Free. The only requirement is RESPECT! To subscribe to receive mission notices\, log into the National Site and click on the Members tab at the top. Select the Subscribe to PGR Missions option.\n Print This Page
URL:https://www.patriotguard.org/mission/frank-c-arzola/
CATEGORIES:Honor Mission
END:VEVENT
END:VCALENDAR