BEGIN:VCALENDAR
VERSION:2.0
PRODID:-//Patriot Guard Riders - ECPv5.3.2.1//NONSGML v1.0//EN
CALSCALE:GREGORIAN
METHOD:PUBLISH
X-WR-CALNAME:Patriot Guard Riders
X-ORIGINAL-URL:https://www.patriotguard.org
X-WR-CALDESC:Events for Patriot Guard Riders
BEGIN:VTIMEZONE
TZID:America/New_York
BEGIN:DAYLIGHT
TZOFFSETFROM:-0500
TZOFFSETTO:-0400
TZNAME:EDT
DTSTART:20190310T070000
END:DAYLIGHT
BEGIN:STANDARD
TZOFFSETFROM:-0400
TZOFFSETTO:-0500
TZNAME:EST
DTSTART:20191103T060000
END:STANDARD
END:VTIMEZONE
BEGIN:VEVENT
DTSTART;VALUE=DATE:20190817
DTEND;VALUE=DATE:20190818
DTSTAMP:20210402T122427
CREATED:20190814T190516Z
LAST-MODIFIED:20190814T190611Z
UID:170918-1566000000-1566086399@www.patriotguard.org
SUMMARY:Frank A. Gile
DESCRIPTION:Honor Mission\nFrank A. Gile\nUSA – Vietnam\nIndependence\, Missouri – 08-17-19\n\n\n\nABOUT THE MISSION: \nThe Patriot Guard Riders will stand in honor of Frank A. Gile at his Memorial Service on Saturday\, August 17\, 2019. Mr. Gile served in the United States Army during Vietnam and attained the rank of Sergeant\, E-5.\n\n\nPRIMARY STAGING DETAILS: 08-17-19 \nStaging Time: 9:00 am  \nNewcomer’s Noland Road Chapel\n509 S Noland Road\nIndependence\, Missouri 64050\n\n\nRide Captain: \nRandy Vogel\nrvogel816@yahoo.com\n816-686-2445\n\n\nSpecial Instructions: \nStaging: 9:00 AM\nBriefing: 9:15 AM\nFlag Line: 9:30 AM\nMemorial Service: 10:00 AM\nMilitary Honors following the Service\nThis is a Flag Line only mission: No escort.\n\n\nFlags & Water:\nFlags will be provided\nLarge Bike Flags will NOT be needed.\nWater will be provided.\n\n\nSubmitted By: Randy Vogel \nPosition: Missouri Ride Captain \n\nNote: You do not have to own/ride a motorcycle or be a veteran to join\, and membership is Free. The only requirement is RESPECT! To subscribe to receive mission notices\, log into the National Site and click on the Members tab at the top. Select the Subscribe to PGR Missions option.\n Print This Page
URL:https://www.patriotguard.org/mission/frank-a-gile/
CATEGORIES:Honor Mission
END:VEVENT
END:VCALENDAR