BEGIN:VCALENDAR
VERSION:2.0
PRODID:-//Patriot Guard Riders - ECPv5.3.2.1//NONSGML v1.0//EN
CALSCALE:GREGORIAN
METHOD:PUBLISH
X-WR-CALNAME:Patriot Guard Riders
X-ORIGINAL-URL:https://www.patriotguard.org
X-WR-CALDESC:Events for Patriot Guard Riders
BEGIN:VTIMEZONE
TZID:America/New_York
BEGIN:DAYLIGHT
TZOFFSETFROM:-0500
TZOFFSETTO:-0400
TZNAME:EDT
DTSTART:20190310T070000
END:DAYLIGHT
BEGIN:STANDARD
TZOFFSETFROM:-0400
TZOFFSETTO:-0500
TZNAME:EST
DTSTART:20191103T060000
END:STANDARD
END:VTIMEZONE
BEGIN:VEVENT
DTSTART;VALUE=DATE:20190718
DTEND;VALUE=DATE:20190719
DTSTAMP:20210404T055920
CREATED:20190714T173509Z
LAST-MODIFIED:20190714T173509Z
UID:167413-1563408000-1563494399@www.patriotguard.org
SUMMARY:Francis Fitzhenry
DESCRIPTION:Honor Mission\nFrancis Fitzhenry\, Veteran\nUSA –\nSan Antonio\, Texas – 07-18-19\n\n\n\nABOUT THE MISSION: \nThe family of Mr. Francis J. Fitzhenry\, a US Army Veteran\, requests the presence and participation of the Patriot Guard Riders at the funeral service\, LEO supported procession\, and graveside rendering of military honors of their loved ones. This will be a joint service for Mr. Fitzhenry and his wife\, who passed away last week. The family would greatly appreciate whomever may be available to attend.\n\n\nPRIMARY STAGING DETAILS: 07-18-19 \nStaging Time: 09:00 AM\n \nPorter Loring Mortuaries North\n2102 N. Loop 1604E\nSan Antonio\, Texas 78232\n\n\nRide Captain: \nJim “Red” Hefner\naaahefner@aol.com\n\n\nSpecial Instructions: \nStaging: 09:00 AM\nBriefing: 09:15 AM\nService: 10:00 AM\nKSU: 10:45 AM\nInterment: 11:30 AM\, Fort Sam Houston National Cemetery\, 1520 Harry Wurzbach Rd\, San Antonio\, TX 78209.\nMap\nFlags: Danette “Dani” O’Hara\n\n\nFlags & Water:\nFlags will be provided\nIf you have large bike flags\, please bring them.\nWater will be provided.\n\n\n\nSubmitted By: Lisa Menard \nPosition: Texas Ride Captain \n\nNote: You do not have to own/ride a motorcycle or be a veteran to join\, and membership is Free. The only requirement is RESPECT! To subscribe to receive mission notices\, log into the National Site and click on the Members tab at the top. Select the Subscribe to PGR Missions option.\n Print This Page
URL:https://www.patriotguard.org/mission/francis-fitzhenry/
CATEGORIES:Honor Mission
END:VEVENT
END:VCALENDAR