BEGIN:VCALENDAR
VERSION:2.0
PRODID:-//Patriot Guard Riders - ECPv5.3.2.1//NONSGML v1.0//EN
CALSCALE:GREGORIAN
METHOD:PUBLISH
X-WR-CALNAME:Patriot Guard Riders
X-ORIGINAL-URL:https://www.patriotguard.org
X-WR-CALDESC:Events for Patriot Guard Riders
BEGIN:VTIMEZONE
TZID:America/New_York
BEGIN:DAYLIGHT
TZOFFSETFROM:-0500
TZOFFSETTO:-0400
TZNAME:EDT
DTSTART:20110313T070000
END:DAYLIGHT
BEGIN:STANDARD
TZOFFSETFROM:-0400
TZOFFSETTO:-0500
TZNAME:EST
DTSTART:20111106T060000
END:STANDARD
END:VTIMEZONE
BEGIN:VEVENT
DTSTART;TZID=America/New_York:20110113T090000
DTEND;TZID=America/New_York:20110113T110000
DTSTAMP:20210405T200616
CREATED:20110113T140000Z
LAST-MODIFIED:20191201T104219Z
UID:345600-1294909200-1294916400@www.patriotguard.org
SUMMARY:Francis E. Maguire\, 91 USN\, WWII/Korea/Vietnam Veteran
DESCRIPTION:Updated 10 JAN 11 11:45 est by Pattie \nGood Afternoon Patriot Guard and associates; \n\nDue to the impending weather coming in Tuesday night into Wednesday services for our Hero have been changed to Thursday\, January 13th.  All other times and places remain the same\, only the day has changed. \n************************************************** \nGood Afternoon Patriot Guard and associates; \nSadly we are called to stand for Francis Maguire who served our country honorably through three wars\, may he rest in peace… \nThe family is requesting participation in the escort\, we will stage flag lines at the church and cemetery.  Leadership team and flag transports please report availability ASAP; there will be no secondary stages set for this mission and Jack Casey will be RCIC.  Jack please coordinate escort riders from the funeral home. \nStaging \nEscort only \n0830hrs Wednesday\, January 12th \nChurch & Allen Funeral Service \n136 Sachem Street \nNorwich\, CT 06360 \nStaging \nFlag line \n0930hrs Wednesday\, January 12th \nSaints Peter and Paul Church \n181 Elizabeth Street \nNorwich\, CT 06360 \nInterment \nMaplewood Cemetery \n184 Salem Tnpk \nNorwich\, CT  06360 \nRegards\, \nBob “Airwolf” Stone \nConnecticut State Captain \nAirwolf2@charter.net \n203.650.0861
URL:https://www.patriotguard.org/mission/francis-e-maguire-91-usn-wwii-korea-vietnam-veteran/
END:VEVENT
END:VCALENDAR